﻿BEGIN:VCALENDAR
VERSION:2.0
PRODID:-//Likör-Genusswerkstatt - ECPv6.11.2//NONSGML v1.0//EN
CALSCALE:GREGORIAN
METHOD:PUBLISH
X-ORIGINAL-URL:https://www.likoer-genuss.at
X-WR-CALDESC:Veranstaltungen für Likör-Genusswerkstatt
REFRESH-INTERVAL;VALUE=DURATION:PT1H
X-Robots-Tag:noindex
X-PUBLISHED-TTL:PT1H
BEGIN:VTIMEZONE
TZID:UTC
BEGIN:STANDARD
TZOFFSETFROM:+0000
TZOFFSETTO:+0000
TZNAME:UTC
DTSTART:20250101T000000
END:STANDARD
END:VTIMEZONE
BEGIN:VEVENT
DTSTART;VALUE=DATE:20250702
DTEND;VALUE=DATE:20250703
DTSTAMP:20260419T152103
CREATED:20250113T193324Z
LAST-MODIFIED:20250113T193324Z
UID:5437-1751414400-1751500799@www.likoer-genuss.at
SUMMARY:Kirtag Maria Laach
DESCRIPTION:Im Wallfahrtsort Maria Laach
URL:https://www.likoer-genuss.at/event/kirtag-maria-laach
LOCATION:3643 Maria Laach
CATEGORIES:Märkte & Kirtage
END:VEVENT
BEGIN:VEVENT
DTSTART;VALUE=DATE:20250704
DTEND;VALUE=DATE:20250708
DTSTAMP:20260419T152103
CREATED:20250309T073805Z
LAST-MODIFIED:20250309T073805Z
UID:5548-1751587200-1751932799@www.likoer-genuss.at
SUMMARY:Lafnitzer Kirtag
DESCRIPTION:Ein viertägiges Kirtagsfest mit zahlreichen Marktständen\, Festhallen mit guter Musik\, ein reichhaltiges\, abwechslungsreiches kulinarisches Angebot\, großem Vergnügungspark. Ein tolles Erlebnis auf mehreren Hektar.
URL:https://www.likoer-genuss.at/event/lafnitzer-kirtag
LOCATION:7423 Neustift an der Lafnitz
CATEGORIES:Märkte & Kirtage
END:VEVENT
BEGIN:VEVENT
DTSTART;VALUE=DATE:20250726
DTEND;VALUE=DATE:20250727
DTSTAMP:20260419T152103
CREATED:20250113T193529Z
LAST-MODIFIED:20250113T193529Z
UID:5439-1753488000-1753574399@www.likoer-genuss.at
SUMMARY:Annakirtag in Bärnkopf
DESCRIPTION:Annakirtag im Luftkurort Bärnkopf auf fast 1.000 Meter Seehöhe. Ausgangspunkt für erholsame Wanderungen
URL:https://www.likoer-genuss.at/event/annakirtag-in-baernkopf-2
LOCATION:3665 Bärnkopf
CATEGORIES:Märkte & Kirtage
END:VEVENT
BEGIN:VEVENT
DTSTART;VALUE=DATE:20250727
DTEND;VALUE=DATE:20250728
DTSTAMP:20260419T152103
CREATED:20250113T193701Z
LAST-MODIFIED:20250113T193701Z
UID:5441-1753574400-1753660799@www.likoer-genuss.at
SUMMARY:Annakirtag in Pöggstall
DESCRIPTION:Heimspiel für uns. Besucht uns in der Region\, in welcher der Likör produziert wird.
URL:https://www.likoer-genuss.at/event/annakirtag-in-poeggstall-3
LOCATION:3650 Pöggstall
CATEGORIES:Märkte & Kirtage
END:VEVENT
END:VCALENDAR