﻿BEGIN:VCALENDAR
VERSION:2.0
PRODID:-//Likör-Genusswerkstatt - ECPv6.11.2//NONSGML v1.0//EN
CALSCALE:GREGORIAN
METHOD:PUBLISH
X-WR-CALNAME:Likör-Genusswerkstatt
X-ORIGINAL-URL:https://www.likoer-genuss.at
X-WR-CALDESC:Veranstaltungen für Likör-Genusswerkstatt
REFRESH-INTERVAL;VALUE=DURATION:PT1H
X-Robots-Tag:noindex
X-PUBLISHED-TTL:PT1H
BEGIN:VTIMEZONE
TZID:UTC
BEGIN:STANDARD
TZOFFSETFROM:+0000
TZOFFSETTO:+0000
TZNAME:UTC
DTSTART:20250101T000000
END:STANDARD
END:VTIMEZONE
BEGIN:VEVENT
DTSTART;VALUE=DATE:20250601
DTEND;VALUE=DATE:20250602
DTSTAMP:20260419T183335
CREATED:20250113T192121Z
LAST-MODIFIED:20250113T192121Z
UID:5423-1748736000-1748822399@www.likoer-genuss.at
SUMMARY:Kirtag in Wolfsbach
DESCRIPTION:Um die 60 Aussteller\, sehr nettes Fest mit vielen kulinarischen Höhepunkten
URL:https://www.likoer-genuss.at/event/kirtag-in-wolfsbach-3
LOCATION:3354 Wolfsbach\, Österreich
CATEGORIES:Märkte & Kirtage
END:VEVENT
BEGIN:VEVENT
DTSTART;VALUE=DATE:20250607
DTEND;VALUE=DATE:20250608
DTSTAMP:20260419T183335
CREATED:20250113T192306Z
LAST-MODIFIED:20250113T192306Z
UID:5425-1749254400-1749340799@www.likoer-genuss.at
SUMMARY:Simmeringer Strassenfest
DESCRIPTION:Weit über 120 Aussteller\, mein Stand befindet sich wie üblich auf Höhe der Hausnummer 65
URL:https://www.likoer-genuss.at/event/simmeringer-strassenfest-12
LOCATION:1110 Wien\, Simmeringer Hauptstrasse
CATEGORIES:Märkte & Kirtage
END:VEVENT
BEGIN:VEVENT
DTSTART;VALUE=DATE:20250608
DTEND;VALUE=DATE:20250609
DTSTAMP:20260419T183335
CREATED:20250422T085200Z
LAST-MODIFIED:20250422T085200Z
UID:5703-1749340800-1749427199@www.likoer-genuss.at
SUMMARY:Pfingstkirtag Bad Sauerbrunn
DESCRIPTION:Ein sehr großer Kirtag im Kurpark von Bad Sauerbrunn. Geniesst die tolle Atmosphäre im kühlenden Schatten der großen Bäume im Kurpark zwischen zahlreichen duftenden Rosengewächsen.
URL:https://www.likoer-genuss.at/event/pfingstkirtag-bad-sauerbrunn
LOCATION:7202 Bad Sauerbrunn
CATEGORIES:Märkte & Kirtage
END:VEVENT
BEGIN:VEVENT
DTSTART;VALUE=DATE:20250609
DTEND;VALUE=DATE:20250610
DTSTAMP:20260419T183335
CREATED:20250113T192451Z
LAST-MODIFIED:20250113T192451Z
UID:5429-1749427200-1749513599@www.likoer-genuss.at
SUMMARY:Pfingstkirtag Markt Piesting
DESCRIPTION:Ein Kirtag mit traditionellen Bräuchen
URL:https://www.likoer-genuss.at/event/pfingstkirtag-markt-piesting-2
LOCATION:2753 Markt Piesting
CATEGORIES:Märkte & Kirtage
END:VEVENT
BEGIN:VEVENT
DTSTART;VALUE=DATE:20250615
DTEND;VALUE=DATE:20250616
DTSTAMP:20260419T183335
CREATED:20250113T192637Z
LAST-MODIFIED:20250113T192637Z
UID:5431-1749945600-1750031999@www.likoer-genuss.at
SUMMARY:Kirtag in Altmelon beim eisernen Bild
DESCRIPTION:Ein sehr alter traditioneller Waldkirtag im Herzen des Waldviertels
URL:https://www.likoer-genuss.at/event/kirtag-in-altmelon-beim-eisernen-bild
LOCATION:3925 Altmelon
CATEGORIES:Märkte & Kirtage
END:VEVENT
BEGIN:VEVENT
DTSTART;VALUE=DATE:20250622
DTEND;VALUE=DATE:20250623
DTSTAMP:20260419T183335
CREATED:20250408T064734Z
LAST-MODIFIED:20250408T064734Z
UID:5691-1750550400-1750636799@www.likoer-genuss.at
SUMMARY:St. Peterer Kirtag in St. Peter in der Au
DESCRIPTION:Auch das Schloß in St. Peter in der Au ist sehr sehenswert!
URL:https://www.likoer-genuss.at/event/st-peterer-kirtag-in-st-peter-in-der-au
LOCATION:3352 St. Peter in der Au
CATEGORIES:Märkte & Kirtage
END:VEVENT
BEGIN:VEVENT
DTSTART;VALUE=DATE:20250624
DTEND;VALUE=DATE:20250625
DTSTAMP:20260419T183335
CREATED:20250113T192913Z
LAST-MODIFIED:20250113T192913Z
UID:5433-1750723200-1750809599@www.likoer-genuss.at
SUMMARY:Johannikirtag in St. Margarethen im Burgenland
DESCRIPTION:Unser einziger Kirtag im Burgenland heuer\, weit über 150 Aussteller
URL:https://www.likoer-genuss.at/event/johannikirtag-in-st-margarethen-im-burgenland-2
LOCATION:7062 St. Margarethen
CATEGORIES:Märkte & Kirtage
END:VEVENT
BEGIN:VEVENT
DTSTART;VALUE=DATE:20250627
DTEND;VALUE=DATE:20250629
DTSTAMP:20260419T183335
CREATED:20250226T101621Z
LAST-MODIFIED:20250226T101621Z
UID:5537-1750982400-1751155199@www.likoer-genuss.at
SUMMARY:Meidlinger Strassenfest
DESCRIPTION:Wir sind wieder dabei beim Meidlinger Strassenfest. Ein buntes Treiben in der Meidlinger Fußgängerzone.
URL:https://www.likoer-genuss.at/event/meidlinger-strassenfest-5
LOCATION:Meidlinger Hauptstraße\, 1120 Wien
CATEGORIES:Märkte & Kirtage
END:VEVENT
BEGIN:VEVENT
DTSTART;VALUE=DATE:20250629
DTEND;VALUE=DATE:20250630
DTSTAMP:20260419T183335
CREATED:20250113T193205Z
LAST-MODIFIED:20250113T193205Z
UID:5435-1751155200-1751241599@www.likoer-genuss.at
SUMMARY:Petersberger Kirtag in Ternitz
DESCRIPTION:Traditioneller Kirtag mit Prater und Festhallen\, weit über 100 Aussteller
URL:https://www.likoer-genuss.at/event/petersberger-kirtag-in-ternitz
LOCATION:2630 Ternitz\, Österreich
CATEGORIES:Märkte & Kirtage
END:VEVENT
END:VCALENDAR