﻿BEGIN:VCALENDAR
VERSION:2.0
PRODID:-//Likör-Genusswerkstatt - ECPv6.11.2//NONSGML v1.0//EN
CALSCALE:GREGORIAN
METHOD:PUBLISH
X-WR-CALNAME:Likör-Genusswerkstatt
X-ORIGINAL-URL:https://www.likoer-genuss.at
X-WR-CALDESC:Veranstaltungen für Likör-Genusswerkstatt
REFRESH-INTERVAL;VALUE=DURATION:PT1H
X-Robots-Tag:noindex
X-PUBLISHED-TTL:PT1H
BEGIN:VTIMEZONE
TZID:UTC
BEGIN:STANDARD
TZOFFSETFROM:+0000
TZOFFSETTO:+0000
TZNAME:UTC
DTSTART:20240101T000000
END:STANDARD
END:VTIMEZONE
BEGIN:VEVENT
DTSTART;VALUE=DATE:20240908
DTEND;VALUE=DATE:20240909
DTSTAMP:20260420T122709
CREATED:20240118T174613Z
LAST-MODIFIED:20240118T174613Z
UID:4938-1725753600-1725839999@www.likoer-genuss.at
SUMMARY:Kirtag in Pöchlarn
DESCRIPTION:Nach dem Frühjahrskirtag sind wir nun auch wieder am Herbstkirtag in Pöchlarn.
URL:https://www.likoer-genuss.at/event/kirtag-in-poechlarn-3
LOCATION:3380 Pöchlarn
CATEGORIES:Märkte & Kirtage
END:VEVENT
BEGIN:VEVENT
DTSTART;VALUE=DATE:20240915
DTEND;VALUE=DATE:20240916
DTSTAMP:20260420T122709
CREATED:20240402T093316Z
LAST-MODIFIED:20240402T093316Z
UID:5052-1726358400-1726444799@www.likoer-genuss.at
SUMMARY:Kirtag in Mank
DESCRIPTION:Ein Kirtag im wunderschönen idyllischen Mostviertel
URL:https://www.likoer-genuss.at/event/kirtag-in-mank
LOCATION:3240 Mank
CATEGORIES:Märkte & Kirtage
END:VEVENT
BEGIN:VEVENT
DTSTART;VALUE=DATE:20240921
DTEND;VALUE=DATE:20240923
DTSTAMP:20260420T122709
CREATED:20240912T132901Z
LAST-MODIFIED:20240912T132901Z
UID:5232-1726876800-1727049599@www.likoer-genuss.at
SUMMARY:Kirtag Kollmitzberg
DESCRIPTION:Der wohl 2-größte Kirtag (der größte ist in Göss-Leoben) Österreichs an 2 Tagen. Erstmals dabei. Kommt und genießt eine spektakuläre Aussicht über das Mostviertel vom Gipfel des Kollmitzberges aus.
URL:https://www.likoer-genuss.at/event/kirtag-kollmitzberg
LOCATION:3321 Kollmitzberg
CATEGORIES:Märkte & Kirtage
END:VEVENT
BEGIN:VEVENT
DTSTART;VALUE=DATE:20240928
DTEND;VALUE=DATE:20240929
DTSTAMP:20260420T122709
CREATED:20240123T145141Z
LAST-MODIFIED:20240123T145141Z
UID:4971-1727481600-1727567999@www.likoer-genuss.at
SUMMARY:Kirtag Ulmerfeld-Hausmening
DESCRIPTION:Ein Besuch des Schlosses Ulmerfeld bietet sich im Anschluss des Kirtages an
URL:https://www.likoer-genuss.at/event/kirtag-ulmerfeld-hausmening
LOCATION:3363 Ulmerfeld-Hausmening
CATEGORIES:Märkte & Kirtage
END:VEVENT
BEGIN:VEVENT
DTSTART;VALUE=DATE:20240929
DTEND;VALUE=DATE:20240930
DTSTAMP:20260420T122709
CREATED:20240118T174753Z
LAST-MODIFIED:20240118T174753Z
UID:4940-1727568000-1727654399@www.likoer-genuss.at
SUMMARY:Kirtag in Steinakirchen am Forst
DESCRIPTION:Auch dieser Kirtag findet nun im Herbst ein 2. Mal statt
URL:https://www.likoer-genuss.at/event/kirtag-in-steinakirchen-am-forst-2
LOCATION:3261 Steinakirchen am Forst
CATEGORIES:Märkte & Kirtage
END:VEVENT
END:VCALENDAR