﻿BEGIN:VCALENDAR
VERSION:2.0
PRODID:-//Likör-Genusswerkstatt - ECPv6.11.2//NONSGML v1.0//EN
CALSCALE:GREGORIAN
METHOD:PUBLISH
X-ORIGINAL-URL:https://www.likoer-genuss.at
X-WR-CALDESC:Veranstaltungen für Likör-Genusswerkstatt
REFRESH-INTERVAL;VALUE=DURATION:PT1H
X-Robots-Tag:noindex
X-PUBLISHED-TTL:PT1H
BEGIN:VTIMEZONE
TZID:UTC
BEGIN:STANDARD
TZOFFSETFROM:+0000
TZOFFSETTO:+0000
TZNAME:UTC
DTSTART:20240101T000000
END:STANDARD
END:VTIMEZONE
BEGIN:VEVENT
DTSTART;VALUE=DATE:20240601
DTEND;VALUE=DATE:20240602
DTSTAMP:20260420T175215
CREATED:20240117T150504Z
LAST-MODIFIED:20240117T150504Z
UID:4912-1717200000-1717286399@www.likoer-genuss.at
SUMMARY:Simmeringer Strassenfest
DESCRIPTION:Auch heuer stehen wir wieder für unsere Wiener Kunden in Wien und mischen uns in das bunte Treiben in der Simmeringer Hauptstrasse. Unser Platz ist wie gehabt auf Höhe der Hausnummer 65.
URL:https://www.likoer-genuss.at/event/simmeringer-strassenfest-10
LOCATION:1110 Wien\, Simmeringer Hauptstrasse
CATEGORIES:Märkte & Kirtage
END:VEVENT
BEGIN:VEVENT
DTSTART;TZID=UTC:20240602T080000
DTEND;TZID=UTC:20240602T140000
DTSTAMP:20260420T175215
CREATED:20240117T170855Z
LAST-MODIFIED:20240117T170855Z
UID:4914-1717315200-1717336800@www.likoer-genuss.at
SUMMARY:Jahrmarkt Vitis
DESCRIPTION:Im Anschluß an dem Markt kann man der Blockheide Gmünd einen Besuch abstatten. Ist sehr sehenswert.
URL:https://www.likoer-genuss.at/event/jahrmarkt-vitis
LOCATION:3902 Vitis
CATEGORIES:Märkte & Kirtage
END:VEVENT
BEGIN:VEVENT
DTSTART;VALUE=DATE:20240615
DTEND;VALUE=DATE:20240617
DTSTAMP:20260420T175215
CREATED:20240124T105452Z
LAST-MODIFIED:20240124T105452Z
UID:4976-1718409600-1718582399@www.likoer-genuss.at
SUMMARY:Veitkirtag in Puchberg am Schneeberg
DESCRIPTION:Ein 2-tägiger Kirtag im wunderschönen Schneebergland
URL:https://www.likoer-genuss.at/event/veitkirtag-in-puchberg-am-schneeberg
LOCATION:2734 Puchberg/Schneeberg
CATEGORIES:Märkte & Kirtage
END:VEVENT
BEGIN:VEVENT
DTSTART;VALUE=DATE:20240623
DTEND;VALUE=DATE:20240624
DTSTAMP:20260420T175215
CREATED:20240214T122247Z
LAST-MODIFIED:20240214T122247Z
UID:5019-1719100800-1719187199@www.likoer-genuss.at
SUMMARY:Kirtag St. Peter in der Au
DESCRIPTION:In der Nähe befindet sich auch der großartige Tierpark in Haag.
URL:https://www.likoer-genuss.at/event/kirtag-st-peter-in-der-au
LOCATION:3352 St. Peter in der Au
CATEGORIES:Märkte & Kirtage
END:VEVENT
BEGIN:VEVENT
DTSTART;VALUE=DATE:20240624
DTEND;VALUE=DATE:20240625
DTSTAMP:20260420T175215
CREATED:20240117T171154Z
LAST-MODIFIED:20240117T171154Z
UID:4917-1719187200-1719273599@www.likoer-genuss.at
SUMMARY:Johannikirtag St. Margarethen im Burgenland
DESCRIPTION:Jährlich am 24. Juni findet einer der größten (wenn nicht gar der größte) Kirtage im Burgenland statt. Über 100 Aussteller – ein echtes Erlebnis. Danach kann man das Kirtagserlebnis bei einem regionalen Heurigen gemütlich ausklingen lassen.
URL:https://www.likoer-genuss.at/event/johannikirtag-st-margarethen-im-burgenland-3
LOCATION:7062 St. Margarethen
CATEGORIES:Märkte & Kirtage
END:VEVENT
BEGIN:VEVENT
DTSTART;VALUE=DATE:20240629
DTEND;VALUE=DATE:20240630
DTSTAMP:20260420T175215
CREATED:20240117T171425Z
LAST-MODIFIED:20240117T171425Z
UID:4919-1719619200-1719705599@www.likoer-genuss.at
SUMMARY:Kirtag Petersberg
DESCRIPTION:Jedes Jahr am Peter und Paul-Tag findet das große Fest am Teritzer Petersberg statt. Autodrom\, verschiedene Stände und ein Riesenfestzelt alles ist dabei.
URL:https://www.likoer-genuss.at/event/kirtag-petersberg
LOCATION:2630 Ternitz\, Österreich
CATEGORIES:Märkte & Kirtage
END:VEVENT
BEGIN:VEVENT
DTSTART;VALUE=DATE:20240630
DTEND;VALUE=DATE:20240701
DTSTAMP:20260420T175215
CREATED:20240121T104604Z
LAST-MODIFIED:20240121T104604Z
UID:4961-1719705600-1719791999@www.likoer-genuss.at
SUMMARY:Kirtag in Sankt Leonhard am Walde
DESCRIPTION:Ein Besuch der Burgstadt Waidhofen an der Ybbs ist sehenswert.
URL:https://www.likoer-genuss.at/event/kirtag-in-sankt-leonhard-am-walde
LOCATION:3340 Sankt Leonhard am Walde
CATEGORIES:Märkte & Kirtage
END:VEVENT
END:VCALENDAR