﻿BEGIN:VCALENDAR
VERSION:2.0
PRODID:-//Likör-Genusswerkstatt - ECPv6.11.2//NONSGML v1.0//EN
CALSCALE:GREGORIAN
METHOD:PUBLISH
X-WR-CALNAME:Likör-Genusswerkstatt
X-ORIGINAL-URL:https://www.likoer-genuss.at
X-WR-CALDESC:Veranstaltungen für Likör-Genusswerkstatt
REFRESH-INTERVAL;VALUE=DURATION:PT1H
X-Robots-Tag:noindex
X-PUBLISHED-TTL:PT1H
BEGIN:VTIMEZONE
TZID:UTC
BEGIN:STANDARD
TZOFFSETFROM:+0000
TZOFFSETTO:+0000
TZNAME:UTC
DTSTART:20240101T000000
END:STANDARD
END:VTIMEZONE
BEGIN:VEVENT
DTSTART;VALUE=DATE:20240407
DTEND;VALUE=DATE:20240408
DTSTAMP:20260420T190821
CREATED:20240116T132210Z
LAST-MODIFIED:20240116T132210Z
UID:4897-1712448000-1712534399@www.likoer-genuss.at
SUMMARY:Kirtag in Pöchlarn
DESCRIPTION:Die Kirtagssaison im Mostviertel eröffnet heuer wieder Pöchlarn
URL:https://www.likoer-genuss.at/event/kirtag-in-poechlarn-2
LOCATION:3380 Pöchlarn
CATEGORIES:Märkte & Kirtage
END:VEVENT
BEGIN:VEVENT
DTSTART;VALUE=DATE:20240414
DTEND;VALUE=DATE:20240415
DTSTAMP:20260420T190821
CREATED:20240121T103530Z
LAST-MODIFIED:20240121T103530Z
UID:4958-1713052800-1713139199@www.likoer-genuss.at
SUMMARY:Georgimarkt in Wildenau
DESCRIPTION:Im Anschluß an den Georgimarkt empfiehlt sich ein Besuch im Erlebnisspark Straßwalchen
URL:https://www.likoer-genuss.at/event/georgimarkt-in-wildenau
LOCATION:4933 Wildenau
CATEGORIES:Märkte & Kirtage
END:VEVENT
BEGIN:VEVENT
DTSTART;VALUE=DATE:20240421
DTEND;VALUE=DATE:20240422
DTSTAMP:20260420T190821
CREATED:20240116T132405Z
LAST-MODIFIED:20240116T132405Z
UID:4899-1713657600-1713743999@www.likoer-genuss.at
SUMMARY:Kirtag in Steinakirchen am Forst
DESCRIPTION:Buntes Treiben im dicht besetzten Kirtag in Steinakirchen
URL:https://www.likoer-genuss.at/event/kirtag-in-steinakirchen-am-forst
LOCATION:3261 Steinakirchen am Forst
CATEGORIES:Märkte & Kirtage
END:VEVENT
END:VCALENDAR