﻿BEGIN:VCALENDAR
VERSION:2.0
PRODID:-//Likör-Genusswerkstatt - ECPv6.11.2//NONSGML v1.0//EN
CALSCALE:GREGORIAN
METHOD:PUBLISH
X-ORIGINAL-URL:https://www.likoer-genuss.at
X-WR-CALDESC:Veranstaltungen für Likör-Genusswerkstatt
REFRESH-INTERVAL;VALUE=DURATION:PT1H
X-Robots-Tag:noindex
X-PUBLISHED-TTL:PT1H
BEGIN:VTIMEZONE
TZID:UTC
BEGIN:STANDARD
TZOFFSETFROM:+0000
TZOFFSETTO:+0000
TZNAME:UTC
DTSTART:20230101T000000
END:STANDARD
END:VTIMEZONE
BEGIN:VEVENT
DTSTART;VALUE=DATE:20230903
DTEND;VALUE=DATE:20230904
DTSTAMP:20260421T045231
CREATED:20230222T124821Z
LAST-MODIFIED:20230222T124821Z
UID:4345-1693699200-1693785599@www.likoer-genuss.at
SUMMARY:Kirtag in Oberndorf an der Melk
DESCRIPTION:Zum 2. Mal im heurigen Jahr findet dieser Kirtag statt.
URL:https://www.likoer-genuss.at/event/kirtag-in-oberndorf-an-der-melk
LOCATION:3241 Oberndorf a. d. Melk
CATEGORIES:Märkte & Kirtage
END:VEVENT
BEGIN:VEVENT
DTSTART;VALUE=DATE:20230910
DTEND;VALUE=DATE:20230911
DTSTAMP:20260421T045231
CREATED:20230222T125202Z
LAST-MODIFIED:20230222T125202Z
UID:4349-1694304000-1694390399@www.likoer-genuss.at
SUMMARY:Pöchlarner Kirtag
DESCRIPTION:Zum 2. Mal findet dieser Kirtag in Pöchlarn an der Donau statt. Im Anschluß empfiehlt sich ein Spaziergang am Donauufer.
URL:https://www.likoer-genuss.at/event/poechlarner-kirtag-3
LOCATION:3380 Pöchlarn
CATEGORIES:Märkte & Kirtage
END:VEVENT
BEGIN:VEVENT
DTSTART;TZID=UTC:20230916T100000
DTEND;TZID=UTC:20230917T170000
DTSTAMP:20260421T045231
CREATED:20230310T110448Z
LAST-MODIFIED:20230310T110448Z
UID:4385-1694858400-1694970000@www.likoer-genuss.at
SUMMARY:Genussherbst in Neumarkt/Ybbs
DESCRIPTION:Die Früchte des Sommers werden eingebracht – bei uns in die Liköre -:))
URL:https://www.likoer-genuss.at/event/genussherbst-in-neumarkt-ybbs
CATEGORIES:Märkte & Kirtage
END:VEVENT
BEGIN:VEVENT
DTSTART;VALUE=DATE:20230924
DTEND;VALUE=DATE:20230925
DTSTAMP:20260421T045231
CREATED:20230714T083539Z
LAST-MODIFIED:20230714T083539Z
UID:4472-1695513600-1695599999@www.likoer-genuss.at
SUMMARY:Kirtag in Thörl
DESCRIPTION:traditoneller Kirtag im Murtal am Fuße des Hochschwabs
URL:https://www.likoer-genuss.at/event/kirtag-in-thoerl-4
LOCATION:8621 Thörl\, Österreich
END:VEVENT
END:VCALENDAR