﻿BEGIN:VCALENDAR
VERSION:2.0
PRODID:-//Likör-Genusswerkstatt - ECPv6.11.2//NONSGML v1.0//EN
CALSCALE:GREGORIAN
METHOD:PUBLISH
X-ORIGINAL-URL:https://www.likoer-genuss.at
X-WR-CALDESC:Veranstaltungen für Likör-Genusswerkstatt
REFRESH-INTERVAL;VALUE=DURATION:PT1H
X-Robots-Tag:noindex
X-PUBLISHED-TTL:PT1H
BEGIN:VTIMEZONE
TZID:UTC
BEGIN:STANDARD
TZOFFSETFROM:+0000
TZOFFSETTO:+0000
TZNAME:UTC
DTSTART:20230101T000000
END:STANDARD
END:VTIMEZONE
BEGIN:VEVENT
DTSTART;VALUE=DATE:20230702
DTEND;VALUE=DATE:20230703
DTSTAMP:20260421T074653
CREATED:20230222T122717Z
LAST-MODIFIED:20230222T122717Z
UID:4325-1688256000-1688342399@www.likoer-genuss.at
SUMMARY:Würnsdorfer Kirtag
DESCRIPTION:2. Heimspiel \nHeute habt ihr das 2. Mal im heurigen Jahr die Möglichkeit in die Region unserer Likörerzeugung zu kommen -:) \nWürnsdorf ist ein nettes\, kleins Dorf im Waldviertel mit zahlreichen Wandermöglichkeiten.
URL:https://www.likoer-genuss.at/event/wuernsdorfer-kirtag
LOCATION:3650 Würnsdorf
CATEGORIES:Märkte & Kirtage
END:VEVENT
BEGIN:VEVENT
DTSTART;TZID=UTC:20230716T080000
DTEND;TZID=UTC:20230716T140000
DTSTAMP:20260421T074653
CREATED:20230222T122921Z
LAST-MODIFIED:20230222T122921Z
UID:4329-1689494400-1689516000@www.likoer-genuss.at
SUMMARY:Kirtag in Laimbach am Ostrong
DESCRIPTION:2. Kirtag im heurigen Jahr in Laimbach am Ostrong
URL:https://www.likoer-genuss.at/event/kirtag-in-laimbach-am-ostrong-2
LOCATION:3663 Laimbach am Ostrong
CATEGORIES:Märkte & Kirtage
END:VEVENT
BEGIN:VEVENT
DTSTART;VALUE=DATE:20230723
DTEND;VALUE=DATE:20230724
DTSTAMP:20260421T074653
CREATED:20230222T123151Z
LAST-MODIFIED:20230222T123151Z
UID:4331-1690070400-1690156799@www.likoer-genuss.at
SUMMARY:Kirtag in Pernitz
DESCRIPTION:In den Gutensteiner Alpen gelegen. Nehmt Euch danach auf jeden Fall Zeit für einen Abstecher zu den sehenswerten Myrafällen in Muggendorf.
URL:https://www.likoer-genuss.at/event/kirtag-in-pernitz
LOCATION:2763 Pernitz
CATEGORIES:Märkte & Kirtage
END:VEVENT
BEGIN:VEVENT
DTSTART;TZID=UTC:20230726T080000
DTEND;TZID=UTC:20230726T140000
DTSTAMP:20260421T074653
CREATED:20230418T091328Z
LAST-MODIFIED:20230418T091328Z
UID:4410-1690358400-1690380000@www.likoer-genuss.at
SUMMARY:
DESCRIPTION:Das bekannte Luftkurort ladet auch zum Spazieren auf einem der wundervollen Wanderwege ein.
URL:https://www.likoer-genuss.at/event/4410
LOCATION:3665 Bärnkopf
CATEGORIES:Märkte & Kirtage
END:VEVENT
BEGIN:VEVENT
DTSTART;TZID=UTC:20230726T080000
DTEND;TZID=UTC:20230726T140000
DTSTAMP:20260421T074653
CREATED:20230418T093751Z
LAST-MODIFIED:20230418T093751Z
UID:4413-1690358400-1690380000@www.likoer-genuss.at
SUMMARY:Kirtag in Bärnkopf
DESCRIPTION:
URL:https://www.likoer-genuss.at/event/kirtag-in-baernkopf
END:VEVENT
BEGIN:VEVENT
DTSTART;VALUE=DATE:20230729
DTEND;VALUE=DATE:20230730
DTSTAMP:20260421T074653
CREATED:20230530T101914Z
LAST-MODIFIED:20230725T081456Z
UID:4443-1690588800-1690675199@www.likoer-genuss.at
SUMMARY:Jakobikirtag Payerbach a. d. Rax
DESCRIPTION:Uns zieht es wieder einmal zurück ins Schneebergland. Heute stehen wir in Payerbach. Ein Highlight neben dem Kirtag ist sicherlich eine Bergfahrt mit der Seilbahn auf die Rax.
URL:https://www.likoer-genuss.at/event/jakobikirtag-boeheimkirchen-2
LOCATION:2650 Payerbach a.d. Rax
CATEGORIES:Märkte & Kirtage
END:VEVENT
BEGIN:VEVENT
DTSTART;VALUE=DATE:20230730
DTEND;VALUE=DATE:20230731
DTSTAMP:20260421T074653
CREATED:20230222T123418Z
LAST-MODIFIED:20230222T123418Z
UID:4335-1690675200-1690761599@www.likoer-genuss.at
SUMMARY:Annakirtag in Pöggstall
DESCRIPTION:4. Heimspiel \nKommt in die zauberhafte Waldviertler-Region\, in der Region in welcher unser Likör produziert wird.
URL:https://www.likoer-genuss.at/event/annakirtag-in-poeggstall
LOCATION:3650 Pöggstall
CATEGORIES:Märkte & Kirtage
END:VEVENT
END:VCALENDAR