﻿BEGIN:VCALENDAR
VERSION:2.0
PRODID:-//Likör-Genusswerkstatt - ECPv6.11.2//NONSGML v1.0//EN
CALSCALE:GREGORIAN
METHOD:PUBLISH
X-WR-CALNAME:Likör-Genusswerkstatt
X-ORIGINAL-URL:https://www.likoer-genuss.at
X-WR-CALDESC:Veranstaltungen für Likör-Genusswerkstatt
REFRESH-INTERVAL;VALUE=DURATION:PT1H
X-Robots-Tag:noindex
X-PUBLISHED-TTL:PT1H
BEGIN:VTIMEZONE
TZID:UTC
BEGIN:STANDARD
TZOFFSETFROM:+0000
TZOFFSETTO:+0000
TZNAME:UTC
DTSTART:20230101T000000
END:STANDARD
END:VTIMEZONE
BEGIN:VEVENT
DTSTART;VALUE=DATE:20230501
DTEND;VALUE=DATE:20230502
DTSTAMP:20260421T105458
CREATED:20230220T101814Z
LAST-MODIFIED:20230220T101814Z
UID:4288-1682899200-1682985599@www.likoer-genuss.at
SUMMARY:Kirtag am Staatsfeiertag in Emmersdorf an der Donau
DESCRIPTION:In Emmersdorf gibt es für alle Liebhaber ein wunderbares Strandbistro mit Steckerlfisch – für danach….-:)
URL:https://www.likoer-genuss.at/event/kirtag-am-staatsfeiertag-in-emmersdorf-an-der-donau
LOCATION:3644 Emmersdorf an der Donau
CATEGORIES:Märkte & Kirtage
END:VEVENT
BEGIN:VEVENT
DTSTART;VALUE=DATE:20230507
DTEND;VALUE=DATE:20230508
DTSTAMP:20260421T105458
CREATED:20230220T102221Z
LAST-MODIFIED:20230220T102221Z
UID:4291-1683417600-1683503999@www.likoer-genuss.at
SUMMARY:Kirtag in Laimbach am Ostrong
DESCRIPTION:Heimspiel – kommt in unsere Gemeinde – in die Region\, in welcher der Likör produziert wird
URL:https://www.likoer-genuss.at/event/kirtag-in-laimbach-am-ostrong
LOCATION:3663 Laimbach am Ostrong
CATEGORIES:Märkte & Kirtage
END:VEVENT
BEGIN:VEVENT
DTSTART;VALUE=DATE:20230512
DTEND;VALUE=DATE:20230513
DTSTAMP:20260421T105458
CREATED:20230221T111131Z
LAST-MODIFIED:20230508T101633Z
UID:4298-1683849600-1683935999@www.likoer-genuss.at
SUMMARY:Meidlinger Strassenfest
DESCRIPTION:Nach fast 4-jähriger Abstinenz sind wir wieder am Strassenfest in Meidling in der Meidlinger Fußgängerzone für unsere Wiener Kunden vertreten.
URL:https://www.likoer-genuss.at/event/wochenmarkt-in-kilb-2
LOCATION:1120 Wien
CATEGORIES:Märkte & Kirtage
END:VEVENT
BEGIN:VEVENT
DTSTART;VALUE=DATE:20230513
DTEND;VALUE=DATE:20230514
DTSTAMP:20260421T105458
CREATED:20230508T101811Z
LAST-MODIFIED:20230508T101811Z
UID:4436-1683936000-1684022399@www.likoer-genuss.at
SUMMARY:Meidlinger Strassenfest
DESCRIPTION:Nach fast 4-jähriger Abstinenz sind wir wieder am Strassenfest in Meidling in der Meidlinger Fußgängerzone für unsere Wiener Kunden vertreten.
URL:https://www.likoer-genuss.at/event/meidlinger-strassenfest-4
LOCATION:1120 Wien
CATEGORIES:Märkte & Kirtage
END:VEVENT
BEGIN:VEVENT
DTSTART;VALUE=DATE:20230514
DTEND;VALUE=DATE:20230515
DTSTAMP:20260421T105458
CREATED:20230221T111606Z
LAST-MODIFIED:20230221T111606Z
UID:4300-1684022400-1684108799@www.likoer-genuss.at
SUMMARY:Kirtag in Leiben
DESCRIPTION:Im Anschluss empfiehlt sich das Traktormuseum im Schloß Leiben
URL:https://www.likoer-genuss.at/event/kirtag-in-leiben
LOCATION:3652 Leiben
CATEGORIES:Märkte & Kirtage
END:VEVENT
BEGIN:VEVENT
DTSTART;VALUE=DATE:20230518
DTEND;VALUE=DATE:20230519
DTSTAMP:20260421T105458
CREATED:20230221T112107Z
LAST-MODIFIED:20230221T112107Z
UID:4303-1684368000-1684454399@www.likoer-genuss.at
SUMMARY:Christi Himmelfahrtskirtag in Lichtenau im Waldviertel
DESCRIPTION:Im Anschluß ist ein Besuch im Karikaturgarten sehr empfhelenswert.
URL:https://www.likoer-genuss.at/event/christi-himmelfahrtskirtag-in-lichtenau-im-waldviertel
LOCATION:3522 Lichtenau im Waldviertel
CATEGORIES:Märkte & Kirtage
END:VEVENT
BEGIN:VEVENT
DTSTART;VALUE=DATE:20230521
DTEND;VALUE=DATE:20230522
DTSTAMP:20260421T105458
CREATED:20230515T110814Z
LAST-MODIFIED:20230515T110814Z
UID:4440-1684627200-1684713599@www.likoer-genuss.at
SUMMARY:Kirtag in Wolfsbach
DESCRIPTION:Nach 4 Jahren Abstinenz sind wir wieder auf diesem schönen Mostviertler Kirtag vertreten -:)
URL:https://www.likoer-genuss.at/event/kirtag-in-wolfsbach-2
LOCATION:3354 Wolfsbach\, Österreich
CATEGORIES:Märkte & Kirtage
END:VEVENT
BEGIN:VEVENT
DTSTART;VALUE=DATE:20230527
DTEND;VALUE=DATE:20230528
DTSTAMP:20260421T105458
CREATED:20230221T140234Z
LAST-MODIFIED:20230221T140234Z
UID:4308-1685145600-1685231999@www.likoer-genuss.at
SUMMARY:Etsdorf am Kamp
DESCRIPTION:Im Anschluss empfiehlt sich ein Spaziergang im prächtigen Schlosspark Grafenegg
URL:https://www.likoer-genuss.at/event/etsdorf-am-kamp
LOCATION:3492 Etsdorf am Kamp
CATEGORIES:Märkte & Kirtage
END:VEVENT
BEGIN:VEVENT
DTSTART;VALUE=DATE:20230528
DTEND;VALUE=DATE:20230529
DTSTAMP:20260421T105458
CREATED:20230221T140605Z
LAST-MODIFIED:20230221T140605Z
UID:4311-1685232000-1685318399@www.likoer-genuss.at
SUMMARY:Kirtag in Münichreith
DESCRIPTION:Im Anschluss empfiehlt sich der Aussichtsturm am Kollnitzberg – ca. 20 Minuten vom Ortszentrum Münichreiths entfernt.
URL:https://www.likoer-genuss.at/event/kirtag-in-muenichreith
LOCATION:3662 Münichreith
CATEGORIES:Märkte & Kirtage
END:VEVENT
BEGIN:VEVENT
DTSTART;VALUE=DATE:20230529
DTEND;VALUE=DATE:20230530
DTSTAMP:20260421T105458
CREATED:20230221T140830Z
LAST-MODIFIED:20230221T140830Z
UID:4314-1685318400-1685404799@www.likoer-genuss.at
SUMMARY:Pfingstkirtag in Markt Piesting
DESCRIPTION:Diesen Markt in unserer alten Region bleiben wir treu. Immer wieder ein netter Kirtag in den Gutensteiner Alpen
URL:https://www.likoer-genuss.at/event/pfingstkirtag-in-markt-piesting
LOCATION:2753 Markt Piesting
CATEGORIES:Märkte & Kirtage
END:VEVENT
END:VCALENDAR