﻿BEGIN:VCALENDAR
VERSION:2.0
PRODID:-//Likör-Genusswerkstatt - ECPv6.11.2//NONSGML v1.0//EN
CALSCALE:GREGORIAN
METHOD:PUBLISH
X-ORIGINAL-URL:https://www.likoer-genuss.at
X-WR-CALDESC:Veranstaltungen für Likör-Genusswerkstatt
REFRESH-INTERVAL;VALUE=DURATION:PT1H
X-Robots-Tag:noindex
X-PUBLISHED-TTL:PT1H
BEGIN:VTIMEZONE
TZID:UTC
BEGIN:STANDARD
TZOFFSETFROM:+0000
TZOFFSETTO:+0000
TZNAME:UTC
DTSTART:20250101T000000
END:STANDARD
END:VTIMEZONE
BEGIN:VEVENT
DTSTART;VALUE=DATE:20250928
DTEND;VALUE=DATE:20250929
DTSTAMP:20260419T121947
CREATED:20250523T111918Z
LAST-MODIFIED:20250523T111918Z
UID:5744-1759017600-1759103999@www.likoer-genuss.at
SUMMARY:Kriecherlkirtag in Schönbach
DESCRIPTION:Der traditionelle Kriecherl-und Michaelikirtag in Schönbach wartet mit einem bunten Familienprogramm auf.
URL:https://www.likoer-genuss.at/event/kriecherlkirtag-in-schoenbach
LOCATION:3633 Schönbach
CATEGORIES:Märkte & Kirtage
END:VEVENT
END:VCALENDAR