﻿BEGIN:VCALENDAR
VERSION:2.0
PRODID:-//Likör-Genusswerkstatt - ECPv6.11.2//NONSGML v1.0//EN
CALSCALE:GREGORIAN
METHOD:PUBLISH
X-ORIGINAL-URL:https://www.likoer-genuss.at
X-WR-CALDESC:Veranstaltungen für Likör-Genusswerkstatt
REFRESH-INTERVAL;VALUE=DURATION:PT1H
X-Robots-Tag:noindex
X-PUBLISHED-TTL:PT1H
BEGIN:VTIMEZONE
TZID:UTC
BEGIN:STANDARD
TZOFFSETFROM:+0000
TZOFFSETTO:+0000
TZNAME:UTC
DTSTART:20250101T000000
END:STANDARD
END:VTIMEZONE
BEGIN:VEVENT
DTSTART;VALUE=DATE:20250920
DTEND;VALUE=DATE:20250922
DTSTAMP:20260419T142027
CREATED:20250909T085726Z
LAST-MODIFIED:20250909T085726Z
UID:5849-1758326400-1758499199@www.likoer-genuss.at
SUMMARY:Kirtag Kollmitzberg
DESCRIPTION:Wohl einer der größten Kirtage Österreichs mit über 30.000 Besucher an 2 Tagen. Ein Kirtag der Superlative mit grandioser Aussicht auf das wunderschöne Mostviertel.
URL:https://www.likoer-genuss.at/event/kirtag-kollmitzberg-2
LOCATION:3321 Kollmitzberg
CATEGORIES:Märkte & Kirtage
END:VEVENT
END:VCALENDAR