﻿BEGIN:VCALENDAR
VERSION:2.0
PRODID:-//Likör-Genusswerkstatt - ECPv6.11.2//NONSGML v1.0//EN
CALSCALE:GREGORIAN
METHOD:PUBLISH
X-WR-CALNAME:Likör-Genusswerkstatt
X-ORIGINAL-URL:https://www.likoer-genuss.at
X-WR-CALDESC:Veranstaltungen für Likör-Genusswerkstatt
REFRESH-INTERVAL;VALUE=DURATION:PT1H
X-Robots-Tag:noindex
X-PUBLISHED-TTL:PT1H
BEGIN:VTIMEZONE
TZID:UTC
BEGIN:STANDARD
TZOFFSETFROM:+0000
TZOFFSETTO:+0000
TZNAME:UTC
DTSTART:20250101T000000
END:STANDARD
END:VTIMEZONE
BEGIN:VEVENT
DTSTART;VALUE=DATE:20250622
DTEND;VALUE=DATE:20250623
DTSTAMP:20260419T200438
CREATED:20250408T064734Z
LAST-MODIFIED:20250408T064734Z
UID:5691-1750550400-1750636799@www.likoer-genuss.at
SUMMARY:St. Peterer Kirtag in St. Peter in der Au
DESCRIPTION:Auch das Schloß in St. Peter in der Au ist sehr sehenswert!
URL:https://www.likoer-genuss.at/event/st-peterer-kirtag-in-st-peter-in-der-au
LOCATION:3352 St. Peter in der Au
CATEGORIES:Märkte & Kirtage
END:VEVENT
END:VCALENDAR