﻿BEGIN:VCALENDAR
VERSION:2.0
PRODID:-//Likör-Genusswerkstatt - ECPv6.11.2//NONSGML v1.0//EN
CALSCALE:GREGORIAN
METHOD:PUBLISH
X-ORIGINAL-URL:https://www.likoer-genuss.at
X-WR-CALDESC:Veranstaltungen für Likör-Genusswerkstatt
REFRESH-INTERVAL;VALUE=DURATION:PT1H
X-Robots-Tag:noindex
X-PUBLISHED-TTL:PT1H
BEGIN:VTIMEZONE
TZID:UTC
BEGIN:STANDARD
TZOFFSETFROM:+0000
TZOFFSETTO:+0000
TZNAME:UTC
DTSTART:20250101T000000
END:STANDARD
END:VTIMEZONE
BEGIN:VEVENT
DTSTART;VALUE=DATE:20250609
DTEND;VALUE=DATE:20250610
DTSTAMP:20260419T214314
CREATED:20250113T192451Z
LAST-MODIFIED:20250113T192451Z
UID:5429-1749427200-1749513599@www.likoer-genuss.at
SUMMARY:Pfingstkirtag Markt Piesting
DESCRIPTION:Ein Kirtag mit traditionellen Bräuchen
URL:https://www.likoer-genuss.at/event/pfingstkirtag-markt-piesting-2
LOCATION:2753 Markt Piesting
CATEGORIES:Märkte & Kirtage
END:VEVENT
END:VCALENDAR