﻿BEGIN:VCALENDAR
VERSION:2.0
PRODID:-//Likör-Genusswerkstatt - ECPv6.11.2//NONSGML v1.0//EN
CALSCALE:GREGORIAN
METHOD:PUBLISH
X-WR-CALNAME:Likör-Genusswerkstatt
X-ORIGINAL-URL:https://www.likoer-genuss.at
X-WR-CALDESC:Veranstaltungen für Likör-Genusswerkstatt
REFRESH-INTERVAL;VALUE=DURATION:PT1H
X-Robots-Tag:noindex
X-PUBLISHED-TTL:PT1H
BEGIN:VTIMEZONE
TZID:UTC
BEGIN:STANDARD
TZOFFSETFROM:+0000
TZOFFSETTO:+0000
TZNAME:UTC
DTSTART:20250101T000000
END:STANDARD
END:VTIMEZONE
BEGIN:VEVENT
DTSTART;VALUE=DATE:20250608
DTEND;VALUE=DATE:20250609
DTSTAMP:20260419T212535
CREATED:20250422T085200Z
LAST-MODIFIED:20250422T085200Z
UID:5703-1749340800-1749427199@www.likoer-genuss.at
SUMMARY:Pfingstkirtag Bad Sauerbrunn
DESCRIPTION:Ein sehr großer Kirtag im Kurpark von Bad Sauerbrunn. Geniesst die tolle Atmosphäre im kühlenden Schatten der großen Bäume im Kurpark zwischen zahlreichen duftenden Rosengewächsen.
URL:https://www.likoer-genuss.at/event/pfingstkirtag-bad-sauerbrunn
LOCATION:7202 Bad Sauerbrunn
CATEGORIES:Märkte & Kirtage
END:VEVENT
END:VCALENDAR