﻿BEGIN:VCALENDAR
VERSION:2.0
PRODID:-//Likör-Genusswerkstatt - ECPv6.11.2//NONSGML v1.0//EN
CALSCALE:GREGORIAN
METHOD:PUBLISH
X-WR-CALNAME:Likör-Genusswerkstatt
X-ORIGINAL-URL:https://www.likoer-genuss.at
X-WR-CALDESC:Veranstaltungen für Likör-Genusswerkstatt
REFRESH-INTERVAL;VALUE=DURATION:PT1H
X-Robots-Tag:noindex
X-PUBLISHED-TTL:PT1H
BEGIN:VTIMEZONE
TZID:UTC
BEGIN:STANDARD
TZOFFSETFROM:+0000
TZOFFSETTO:+0000
TZNAME:UTC
DTSTART:20250101T000000
END:STANDARD
END:VTIMEZONE
BEGIN:VEVENT
DTSTART;VALUE=DATE:20250518
DTEND;VALUE=DATE:20250519
DTSTAMP:20260419T212809
CREATED:20250113T191746Z
LAST-MODIFIED:20250113T191746Z
UID:5418-1747526400-1747612799@www.likoer-genuss.at
SUMMARY:Kirtag in Sandl
DESCRIPTION:Kombinierbar mit einem Besuch im Glasmuseum Sandl
URL:https://www.likoer-genuss.at/event/kirtag-in-sandl
LOCATION:4251 Sandl
CATEGORIES:Märkte & Kirtage
END:VEVENT
END:VCALENDAR