﻿BEGIN:VCALENDAR
VERSION:2.0
PRODID:-//Likör-Genusswerkstatt - ECPv6.11.2//NONSGML v1.0//EN
CALSCALE:GREGORIAN
METHOD:PUBLISH
X-ORIGINAL-URL:https://www.likoer-genuss.at
X-WR-CALDESC:Veranstaltungen für Likör-Genusswerkstatt
REFRESH-INTERVAL;VALUE=DURATION:PT1H
X-Robots-Tag:noindex
X-PUBLISHED-TTL:PT1H
BEGIN:VTIMEZONE
TZID:UTC
BEGIN:STANDARD
TZOFFSETFROM:+0000
TZOFFSETTO:+0000
TZNAME:UTC
DTSTART:20250101T000000
END:STANDARD
END:VTIMEZONE
BEGIN:VEVENT
DTSTART;VALUE=DATE:20250504
DTEND;VALUE=DATE:20250505
DTSTAMP:20260419T212910
CREATED:20250123T161625Z
LAST-MODIFIED:20250123T161625Z
UID:5500-1746316800-1746403199@www.likoer-genuss.at
SUMMARY:Florianikirtag Purgstall an der Erlauf
DESCRIPTION:Mostviertler Frühlingskirtag – optimal zu kombinieren mit einer netten Wanderung in der Erlaufschlucht
URL:https://www.likoer-genuss.at/event/florianikirtag-purgstall-an-der-erlauf
LOCATION:3251 Purgstall an der Erlauf
CATEGORIES:Märkte & Kirtage
END:VEVENT
END:VCALENDAR