﻿BEGIN:VCALENDAR
VERSION:2.0
PRODID:-//Likör-Genusswerkstatt - ECPv6.11.2//NONSGML v1.0//EN
CALSCALE:GREGORIAN
METHOD:PUBLISH
X-WR-CALNAME:Likör-Genusswerkstatt
X-ORIGINAL-URL:https://www.likoer-genuss.at
X-WR-CALDESC:Veranstaltungen für Likör-Genusswerkstatt
REFRESH-INTERVAL;VALUE=DURATION:PT1H
X-Robots-Tag:noindex
X-PUBLISHED-TTL:PT1H
BEGIN:VTIMEZONE
TZID:UTC
BEGIN:STANDARD
TZOFFSETFROM:+0000
TZOFFSETTO:+0000
TZNAME:UTC
DTSTART:20250101T000000
END:STANDARD
END:VTIMEZONE
BEGIN:VEVENT
DTSTART;TZID=UTC:20250411T090000
DTEND;TZID=UTC:20250413T180000
DTSTAMP:20260419T230117
CREATED:20250208T111739Z
LAST-MODIFIED:20250208T111739Z
UID:5520-1744362000-1744567200@www.likoer-genuss.at
SUMMARY:Ostermarkt Reichenau an der Rax
DESCRIPTION:Traditionell stehen wir wie jedes Jahr im 4er Saal im Schloß Reichenau an der Rax am Ostermarkt. Wunderschönes Ambiente\, liebevoll gestaltete Stände indoor und outdoor an die 100 Aussteller.
URL:https://www.likoer-genuss.at/event/ostermarkt-reichenau-an-der-rax-3
LOCATION:2651 Reichenau an der Rax\, Schloss Reichenau\, Schloss Reichenau an der Rax\, 2651 Reichenau an der Rax\, Niederösterreich\, 2651\, Österreich
CATEGORIES:Märkte & Kirtage
END:VEVENT
END:VCALENDAR