﻿BEGIN:VCALENDAR
VERSION:2.0
PRODID:-//Likör-Genusswerkstatt - ECPv6.11.2//NONSGML v1.0//EN
CALSCALE:GREGORIAN
METHOD:PUBLISH
X-ORIGINAL-URL:https://www.likoer-genuss.at
X-WR-CALDESC:Veranstaltungen für Likör-Genusswerkstatt
REFRESH-INTERVAL;VALUE=DURATION:PT1H
X-Robots-Tag:noindex
X-PUBLISHED-TTL:PT1H
BEGIN:VTIMEZONE
TZID:UTC
BEGIN:STANDARD
TZOFFSETFROM:+0000
TZOFFSETTO:+0000
TZNAME:UTC
DTSTART:20250101T000000
END:STANDARD
END:VTIMEZONE
BEGIN:VEVENT
DTSTART;VALUE=DATE:20250330
DTEND;VALUE=DATE:20250331
DTSTAMP:20260420T022901
CREATED:20250122T112425Z
LAST-MODIFIED:20250122T112425Z
UID:5495-1743292800-1743379199@www.likoer-genuss.at
SUMMARY:Patrizikirtag in Großwilfersdorf
DESCRIPTION:Frühlingskirtag in der größten Weinbaugemeinde des Bezirkes Fürstenfelds
URL:https://www.likoer-genuss.at/event/patrizikirtag-in-grosswilfersdorf
LOCATION:8263 Großwilfersdorf
CATEGORIES:Märkte & Kirtage
END:VEVENT
END:VCALENDAR