﻿BEGIN:VCALENDAR
VERSION:2.0
PRODID:-//Likör-Genusswerkstatt - ECPv6.11.2//NONSGML v1.0//EN
CALSCALE:GREGORIAN
METHOD:PUBLISH
X-WR-CALNAME:Likör-Genusswerkstatt
X-ORIGINAL-URL:https://www.likoer-genuss.at
X-WR-CALDESC:Veranstaltungen für Likör-Genusswerkstatt
REFRESH-INTERVAL;VALUE=DURATION:PT1H
X-Robots-Tag:noindex
X-PUBLISHED-TTL:PT1H
BEGIN:VTIMEZONE
TZID:UTC
BEGIN:STANDARD
TZOFFSETFROM:+0000
TZOFFSETTO:+0000
TZNAME:UTC
DTSTART:20250101T000000
END:STANDARD
END:VTIMEZONE
BEGIN:VEVENT
DTSTART;VALUE=DATE:20250323
DTEND;VALUE=DATE:20250324
DTSTAMP:20260420T005415
CREATED:20250113T185412Z
LAST-MODIFIED:20250113T185412Z
UID:5399-1742688000-1742774399@www.likoer-genuss.at
SUMMARY:Kirtag in Texing
DESCRIPTION:Das Texingtal im Mostviertel bietet sich auch als Ausgangspunkt für eine Wanderung in der Erlaufschlucht an.
URL:https://www.likoer-genuss.at/event/kirtag-in-texing
LOCATION:3242 Texing
CATEGORIES:Märkte & Kirtage
END:VEVENT
END:VCALENDAR