﻿BEGIN:VCALENDAR
VERSION:2.0
PRODID:-//Likör-Genusswerkstatt - ECPv6.11.2//NONSGML v1.0//EN
CALSCALE:GREGORIAN
METHOD:PUBLISH
X-WR-CALNAME:Likör-Genusswerkstatt
X-ORIGINAL-URL:https://www.likoer-genuss.at
X-WR-CALDESC:Veranstaltungen für Likör-Genusswerkstatt
REFRESH-INTERVAL;VALUE=DURATION:PT1H
X-Robots-Tag:noindex
X-PUBLISHED-TTL:PT1H
BEGIN:VTIMEZONE
TZID:UTC
BEGIN:STANDARD
TZOFFSETFROM:+0000
TZOFFSETTO:+0000
TZNAME:UTC
DTSTART:20250101T000000
END:STANDARD
END:VTIMEZONE
BEGIN:VEVENT
DTSTART;VALUE=DATE:20250322
DTEND;VALUE=DATE:20250323
DTSTAMP:20260420T005413
CREATED:20250121T114319Z
LAST-MODIFIED:20250121T114319Z
UID:5488-1742601600-1742687999@www.likoer-genuss.at
SUMMARY:Kirtag in Landl
DESCRIPTION:Ein Kirtag in den steirischen Wildalpen. Unbedingt sehenswert ist auch eine kurze Wanderung in der Wasserlochklamm!
URL:https://www.likoer-genuss.at/event/kirtag-in-landl
LOCATION:8931 Landl
CATEGORIES:Märkte & Kirtage
END:VEVENT
END:VCALENDAR