﻿BEGIN:VCALENDAR
VERSION:2.0
PRODID:-//Likör-Genusswerkstatt - ECPv6.11.2//NONSGML v1.0//EN
CALSCALE:GREGORIAN
METHOD:PUBLISH
X-ORIGINAL-URL:https://www.likoer-genuss.at
X-WR-CALDESC:Veranstaltungen für Likör-Genusswerkstatt
REFRESH-INTERVAL;VALUE=DURATION:PT1H
X-Robots-Tag:noindex
X-PUBLISHED-TTL:PT1H
BEGIN:VTIMEZONE
TZID:UTC
BEGIN:STANDARD
TZOFFSETFROM:+0000
TZOFFSETTO:+0000
TZNAME:UTC
DTSTART:20240101T000000
END:STANDARD
END:VTIMEZONE
BEGIN:VEVENT
DTSTART;TZID=UTC:20241214T140000
DTEND;TZID=UTC:20241214T190000
DTSTAMP:20260420T060057
CREATED:20240918T100020Z
LAST-MODIFIED:20240918T100020Z
UID:5252-1734184800-1734202800@www.likoer-genuss.at
SUMMARY:Advent Reichenau
DESCRIPTION:Auch heuer sind wir wieder im Schloß Reichenau beim Advent vertreten.
URL:https://www.likoer-genuss.at/event/advent-reichenau
LOCATION:2651 Reichenau an der Rax\, Schloss Reichenau\, Schloss Reichenau an der Rax\, 2651 Reichenau an der Rax\, Niederösterreich\, 2651\, Österreich
END:VEVENT
END:VCALENDAR