﻿BEGIN:VCALENDAR
VERSION:2.0
PRODID:-//Likör-Genusswerkstatt - ECPv6.11.2//NONSGML v1.0//EN
CALSCALE:GREGORIAN
METHOD:PUBLISH
X-WR-CALNAME:Likör-Genusswerkstatt
X-ORIGINAL-URL:https://www.likoer-genuss.at
X-WR-CALDESC:Veranstaltungen für Likör-Genusswerkstatt
REFRESH-INTERVAL;VALUE=DURATION:PT1H
X-Robots-Tag:noindex
X-PUBLISHED-TTL:PT1H
BEGIN:VTIMEZONE
TZID:UTC
BEGIN:STANDARD
TZOFFSETFROM:+0000
TZOFFSETTO:+0000
TZNAME:UTC
DTSTART:20240101T000000
END:STANDARD
END:VTIMEZONE
BEGIN:VEVENT
DTSTART;VALUE=DATE:20241028
DTEND;VALUE=DATE:20241029
DTSTAMP:20260420T075039
CREATED:20240506T081335Z
LAST-MODIFIED:20240506T081335Z
UID:5086-1730073600-1730159999@www.likoer-genuss.at
SUMMARY:Kirtag in Kilb
DESCRIPTION:Ein großer Herbstkirtag (über 60 Aussteller) im schönen Mostviertel erwartet Euch.
URL:https://www.likoer-genuss.at/event/kirtag-in-kilb
LOCATION:3233 Kilb
CATEGORIES:Märkte & Kirtage
END:VEVENT
END:VCALENDAR