﻿BEGIN:VCALENDAR
VERSION:2.0
PRODID:-//Likör-Genusswerkstatt - ECPv6.11.2//NONSGML v1.0//EN
CALSCALE:GREGORIAN
METHOD:PUBLISH
X-ORIGINAL-URL:https://www.likoer-genuss.at
X-WR-CALDESC:Veranstaltungen für Likör-Genusswerkstatt
REFRESH-INTERVAL;VALUE=DURATION:PT1H
X-Robots-Tag:noindex
X-PUBLISHED-TTL:PT1H
BEGIN:VTIMEZONE
TZID:UTC
BEGIN:STANDARD
TZOFFSETFROM:+0000
TZOFFSETTO:+0000
TZNAME:UTC
DTSTART:20240101T000000
END:STANDARD
END:VTIMEZONE
BEGIN:VEVENT
DTSTART;VALUE=DATE:20241026
DTEND;VALUE=DATE:20241027
DTSTAMP:20260420T093047
CREATED:20240118T181724Z
LAST-MODIFIED:20240118T181724Z
UID:4950-1729900800-1729987199@www.likoer-genuss.at
SUMMARY:Kirtag in Wilhelmsburg
DESCRIPTION:Nachdem Kirtag am Staatsfeiertag im Mai\, findet dieser nun in etwas verkleinerter Form im Oktober das 2. Mal statt
URL:https://www.likoer-genuss.at/event/kirtag-in-wilhelmsburg-2
LOCATION:3150 Wilhelmsburg
CATEGORIES:Märkte & Kirtage
END:VEVENT
END:VCALENDAR