﻿BEGIN:VCALENDAR
VERSION:2.0
PRODID:-//Likör-Genusswerkstatt - ECPv6.11.2//NONSGML v1.0//EN
CALSCALE:GREGORIAN
METHOD:PUBLISH
X-WR-CALNAME:Likör-Genusswerkstatt
X-ORIGINAL-URL:https://www.likoer-genuss.at
X-WR-CALDESC:Veranstaltungen für Likör-Genusswerkstatt
REFRESH-INTERVAL;VALUE=DURATION:PT1H
X-Robots-Tag:noindex
X-PUBLISHED-TTL:PT1H
BEGIN:VTIMEZONE
TZID:UTC
BEGIN:STANDARD
TZOFFSETFROM:+0000
TZOFFSETTO:+0000
TZNAME:UTC
DTSTART:20240101T000000
END:STANDARD
END:VTIMEZONE
BEGIN:VEVENT
DTSTART;VALUE=DATE:20241010
DTEND;VALUE=DATE:20241011
DTSTAMP:20260420T092737
CREATED:20240118T175222Z
LAST-MODIFIED:20240118T175222Z
UID:4944-1728518400-1728604799@www.likoer-genuss.at
SUMMARY:Gösser Kirtag in Leoben
DESCRIPTION:Der größte Kirtag Österreichs\, über 4 km Länge\, viele hundert Aussteller – ein Erlebnishighlight des Jahres
URL:https://www.likoer-genuss.at/event/goesser-kirtag-in-leoben-2
LOCATION:8700 Leoben
CATEGORIES:Märkte & Kirtage
END:VEVENT
END:VCALENDAR