﻿BEGIN:VCALENDAR
VERSION:2.0
PRODID:-//Likör-Genusswerkstatt - ECPv6.11.2//NONSGML v1.0//EN
CALSCALE:GREGORIAN
METHOD:PUBLISH
X-WR-CALNAME:Likör-Genusswerkstatt
X-ORIGINAL-URL:https://www.likoer-genuss.at
X-WR-CALDESC:Veranstaltungen für Likör-Genusswerkstatt
REFRESH-INTERVAL;VALUE=DURATION:PT1H
X-Robots-Tag:noindex
X-PUBLISHED-TTL:PT1H
BEGIN:VTIMEZONE
TZID:UTC
BEGIN:STANDARD
TZOFFSETFROM:+0000
TZOFFSETTO:+0000
TZNAME:UTC
DTSTART:20240101T000000
END:STANDARD
END:VTIMEZONE
BEGIN:VEVENT
DTSTART;VALUE=DATE:20240815
DTEND;VALUE=DATE:20240816
DTSTAMP:20260420T134311
CREATED:20240118T173256Z
LAST-MODIFIED:20240118T173256Z
UID:4932-1723680000-1723766399@www.likoer-genuss.at
SUMMARY:Mariä Himmelfahrtskirtag Grainbrunn
DESCRIPTION:Nicht nur viele Aussteller\, gute Musik und gutes Essen erwartet Euch\, sondern es gibt auch eine schöne barocke Marienwallfahrtskirche in Grainbrunn zu besichtigen.
URL:https://www.likoer-genuss.at/event/mariae-himmelfahrtskirtag-grainbrunn
LOCATION:3524 Grainbrunn
CATEGORIES:Märkte & Kirtage
END:VEVENT
END:VCALENDAR