﻿BEGIN:VCALENDAR
VERSION:2.0
PRODID:-//Likör-Genusswerkstatt - ECPv6.11.2//NONSGML v1.0//EN
CALSCALE:GREGORIAN
METHOD:PUBLISH
X-ORIGINAL-URL:https://www.likoer-genuss.at
X-WR-CALDESC:Veranstaltungen für Likör-Genusswerkstatt
REFRESH-INTERVAL;VALUE=DURATION:PT1H
X-Robots-Tag:noindex
X-PUBLISHED-TTL:PT1H
BEGIN:VTIMEZONE
TZID:UTC
BEGIN:STANDARD
TZOFFSETFROM:+0000
TZOFFSETTO:+0000
TZNAME:UTC
DTSTART:20240101T000000
END:STANDARD
END:VTIMEZONE
BEGIN:VEVENT
DTSTART;VALUE=DATE:20240728
DTEND;VALUE=DATE:20240729
DTSTAMP:20260420T150630
CREATED:20240118T140352Z
LAST-MODIFIED:20240118T140352Z
UID:4926-1722124800-1722211199@www.likoer-genuss.at
SUMMARY:Annakirtag in Pöggstall
DESCRIPTION:Heimvorteil für uns -:) Kommt in die Region\, wo unsere Liköre produziert werden.
URL:https://www.likoer-genuss.at/event/annakirtag-in-poeggstall-2
LOCATION:3650 Pöggstall
CATEGORIES:Märkte & Kirtage
END:VEVENT
END:VCALENDAR