﻿BEGIN:VCALENDAR
VERSION:2.0
PRODID:-//Likör-Genusswerkstatt - ECPv6.11.2//NONSGML v1.0//EN
CALSCALE:GREGORIAN
METHOD:PUBLISH
X-ORIGINAL-URL:https://www.likoer-genuss.at
X-WR-CALDESC:Veranstaltungen für Likör-Genusswerkstatt
REFRESH-INTERVAL;VALUE=DURATION:PT1H
X-Robots-Tag:noindex
X-PUBLISHED-TTL:PT1H
BEGIN:VTIMEZONE
TZID:UTC
BEGIN:STANDARD
TZOFFSETFROM:+0000
TZOFFSETTO:+0000
TZNAME:UTC
DTSTART:20240101T000000
END:STANDARD
END:VTIMEZONE
BEGIN:VEVENT
DTSTART;VALUE=DATE:20240721
DTEND;VALUE=DATE:20240722
DTSTAMP:20260420T150609
CREATED:20240416T093634Z
LAST-MODIFIED:20240416T093634Z
UID:5067-1721520000-1721606399@www.likoer-genuss.at
SUMMARY:Kirtag in Frankenfels
DESCRIPTION:Nach dem Kirtagsbesuch empfiehlt sein ein Besuch der Nixhöhle
URL:https://www.likoer-genuss.at/event/kirtag-in-frankenfels
LOCATION:3213 Frankenfels
CATEGORIES:Märkte & Kirtage
END:VEVENT
END:VCALENDAR