﻿BEGIN:VCALENDAR
VERSION:2.0
PRODID:-//Likör-Genusswerkstatt - ECPv6.11.2//NONSGML v1.0//EN
CALSCALE:GREGORIAN
METHOD:PUBLISH
X-WR-CALNAME:Likör-Genusswerkstatt
X-ORIGINAL-URL:https://www.likoer-genuss.at
X-WR-CALDESC:Veranstaltungen für Likör-Genusswerkstatt
REFRESH-INTERVAL;VALUE=DURATION:PT1H
X-Robots-Tag:noindex
X-PUBLISHED-TTL:PT1H
BEGIN:VTIMEZONE
TZID:UTC
BEGIN:STANDARD
TZOFFSETFROM:+0000
TZOFFSETTO:+0000
TZNAME:UTC
DTSTART:20240101T000000
END:STANDARD
END:VTIMEZONE
BEGIN:VEVENT
DTSTART;VALUE=DATE:20240720
DTEND;VALUE=DATE:20240721
DTSTAMP:20260420T173540
CREATED:20240424T132217Z
LAST-MODIFIED:20240424T132217Z
UID:5078-1721433600-1721519999@www.likoer-genuss.at
SUMMARY:Kirtag in Vöcklamarkt
DESCRIPTION:……und erneut sind wir heuer auch in Oberösterreich unterwegs für Euch -:)
URL:https://www.likoer-genuss.at/event/kirtag-in-voecklamarkt
LOCATION:4870 Vöcklamarkt
CATEGORIES:Märkte & Kirtage
END:VEVENT
END:VCALENDAR