﻿BEGIN:VCALENDAR
VERSION:2.0
PRODID:-//Likör-Genusswerkstatt - ECPv6.11.2//NONSGML v1.0//EN
CALSCALE:GREGORIAN
METHOD:PUBLISH
X-WR-CALNAME:Likör-Genusswerkstatt
X-ORIGINAL-URL:https://www.likoer-genuss.at
X-WR-CALDESC:Veranstaltungen für Likör-Genusswerkstatt
REFRESH-INTERVAL;VALUE=DURATION:PT1H
X-Robots-Tag:noindex
X-PUBLISHED-TTL:PT1H
BEGIN:VTIMEZONE
TZID:UTC
BEGIN:STANDARD
TZOFFSETFROM:+0000
TZOFFSETTO:+0000
TZNAME:UTC
DTSTART:20240101T000000
END:STANDARD
END:VTIMEZONE
BEGIN:VEVENT
DTSTART;VALUE=DATE:20240714
DTEND;VALUE=DATE:20240715
DTSTAMP:20260420T150450
CREATED:20240220T103828Z
LAST-MODIFIED:20240220T103828Z
UID:5025-1720915200-1721001599@www.likoer-genuss.at
SUMMARY:Kirtag Laimbach am Ostrong
DESCRIPTION:Wieder mal ein Heimspiel für uns -:)
URL:https://www.likoer-genuss.at/event/kirtag-laimbach-am-ostrong-2
LOCATION:3663 Laimbach am Ostrong
CATEGORIES:Märkte & Kirtage
END:VEVENT
END:VCALENDAR