﻿BEGIN:VCALENDAR
VERSION:2.0
PRODID:-//Likör-Genusswerkstatt - ECPv6.11.2//NONSGML v1.0//EN
CALSCALE:GREGORIAN
METHOD:PUBLISH
X-WR-CALNAME:Likör-Genusswerkstatt
X-ORIGINAL-URL:https://www.likoer-genuss.at
X-WR-CALDESC:Veranstaltungen für Likör-Genusswerkstatt
REFRESH-INTERVAL;VALUE=DURATION:PT1H
X-Robots-Tag:noindex
X-PUBLISHED-TTL:PT1H
BEGIN:VTIMEZONE
TZID:UTC
BEGIN:STANDARD
TZOFFSETFROM:+0000
TZOFFSETTO:+0000
TZNAME:UTC
DTSTART:20240101T000000
END:STANDARD
END:VTIMEZONE
BEGIN:VEVENT
DTSTART;VALUE=DATE:20240705
DTEND;VALUE=DATE:20240709
DTSTAMP:20260420T150434
CREATED:20240401T064836Z
LAST-MODIFIED:20240401T064836Z
UID:5048-1720137600-1720483199@www.likoer-genuss.at
SUMMARY:Kirtag Neustift an der Lafnitz
DESCRIPTION:Erstmals heuer dabei. Das Fest beginnt schon am Freitag und geht bis Montag jeweils bis spät in die Nacht. Die Marktfahrer werden hauptsächlich Sonntag und Montag stehen\, ich werde aber schon Freitag nachmittags meinen Stand aufbauen\, sodass ihr nicht verdursten müsst -:) \nZur Erholung bietet sich der Ringkogel mit der Ringwarte mit ausreichend Frischluft an -:)
URL:https://www.likoer-genuss.at/event/kirtag-neustift-an-der-lafnitz
LOCATION:7423 Neustift an der Lafnitz
CATEGORIES:Märkte & Kirtage
END:VEVENT
END:VCALENDAR