﻿BEGIN:VCALENDAR
VERSION:2.0
PRODID:-//Likör-Genusswerkstatt - ECPv6.11.2//NONSGML v1.0//EN
CALSCALE:GREGORIAN
METHOD:PUBLISH
X-WR-CALNAME:Likör-Genusswerkstatt
X-ORIGINAL-URL:https://www.likoer-genuss.at
X-WR-CALDESC:Veranstaltungen für Likör-Genusswerkstatt
REFRESH-INTERVAL;VALUE=DURATION:PT1H
X-Robots-Tag:noindex
X-PUBLISHED-TTL:PT1H
BEGIN:VTIMEZONE
TZID:UTC
BEGIN:STANDARD
TZOFFSETFROM:+0000
TZOFFSETTO:+0000
TZNAME:UTC
DTSTART:20240101T000000
END:STANDARD
END:VTIMEZONE
BEGIN:VEVENT
DTSTART;VALUE=DATE:20240623
DTEND;VALUE=DATE:20240624
DTSTAMP:20260420T162359
CREATED:20240214T122247Z
LAST-MODIFIED:20240214T122247Z
UID:5019-1719100800-1719187199@www.likoer-genuss.at
SUMMARY:Kirtag St. Peter in der Au
DESCRIPTION:In der Nähe befindet sich auch der großartige Tierpark in Haag.
URL:https://www.likoer-genuss.at/event/kirtag-st-peter-in-der-au
LOCATION:3352 St. Peter in der Au
CATEGORIES:Märkte & Kirtage
END:VEVENT
END:VCALENDAR