﻿BEGIN:VCALENDAR
VERSION:2.0
PRODID:-//Likör-Genusswerkstatt - ECPv6.11.2//NONSGML v1.0//EN
CALSCALE:GREGORIAN
METHOD:PUBLISH
X-ORIGINAL-URL:https://www.likoer-genuss.at
X-WR-CALDESC:Veranstaltungen für Likör-Genusswerkstatt
REFRESH-INTERVAL;VALUE=DURATION:PT1H
X-Robots-Tag:noindex
X-PUBLISHED-TTL:PT1H
BEGIN:VTIMEZONE
TZID:UTC
BEGIN:STANDARD
TZOFFSETFROM:+0000
TZOFFSETTO:+0000
TZNAME:UTC
DTSTART:20240101T000000
END:STANDARD
END:VTIMEZONE
BEGIN:VEVENT
DTSTART;TZID=UTC:20240602T080000
DTEND;TZID=UTC:20240602T140000
DTSTAMP:20260420T162436
CREATED:20240117T170855Z
LAST-MODIFIED:20240117T170855Z
UID:4914-1717315200-1717336800@www.likoer-genuss.at
SUMMARY:Jahrmarkt Vitis
DESCRIPTION:Im Anschluß an dem Markt kann man der Blockheide Gmünd einen Besuch abstatten. Ist sehr sehenswert.
URL:https://www.likoer-genuss.at/event/jahrmarkt-vitis
LOCATION:3902 Vitis
CATEGORIES:Märkte & Kirtage
END:VEVENT
END:VCALENDAR