﻿BEGIN:VCALENDAR
VERSION:2.0
PRODID:-//Likör-Genusswerkstatt - ECPv6.11.2//NONSGML v1.0//EN
CALSCALE:GREGORIAN
METHOD:PUBLISH
X-WR-CALNAME:Likör-Genusswerkstatt
X-ORIGINAL-URL:https://www.likoer-genuss.at
X-WR-CALDESC:Veranstaltungen für Likör-Genusswerkstatt
REFRESH-INTERVAL;VALUE=DURATION:PT1H
X-Robots-Tag:noindex
X-PUBLISHED-TTL:PT1H
BEGIN:VTIMEZONE
TZID:UTC
BEGIN:STANDARD
TZOFFSETFROM:+0000
TZOFFSETTO:+0000
TZNAME:UTC
DTSTART:20240101T000000
END:STANDARD
END:VTIMEZONE
BEGIN:VEVENT
DTSTART;VALUE=DATE:20240530
DTEND;VALUE=DATE:20240531
DTSTAMP:20260420T173540
CREATED:20240126T085219Z
LAST-MODIFIED:20240126T085219Z
UID:4987-1717027200-1717113599@www.likoer-genuss.at
SUMMARY:Fronleichnamskirtag in Stephanshart
DESCRIPTION:Ein etwas kleinerer Kirtag mit schöner Prozession
URL:https://www.likoer-genuss.at/event/fronleichnamskirtag-in-stephanshart
LOCATION:3321 Stephanshart
CATEGORIES:Märkte & Kirtage
END:VEVENT
END:VCALENDAR