﻿BEGIN:VCALENDAR
VERSION:2.0
PRODID:-//Likör-Genusswerkstatt - ECPv6.11.2//NONSGML v1.0//EN
CALSCALE:GREGORIAN
METHOD:PUBLISH
X-WR-CALNAME:Likör-Genusswerkstatt
X-ORIGINAL-URL:https://www.likoer-genuss.at
X-WR-CALDESC:Veranstaltungen für Likör-Genusswerkstatt
REFRESH-INTERVAL;VALUE=DURATION:PT1H
X-Robots-Tag:noindex
X-PUBLISHED-TTL:PT1H
BEGIN:VTIMEZONE
TZID:UTC
BEGIN:STANDARD
TZOFFSETFROM:+0000
TZOFFSETTO:+0000
TZNAME:UTC
DTSTART:20240101T000000
END:STANDARD
END:VTIMEZONE
BEGIN:VEVENT
DTSTART;TZID=UTC:20240526T100000
DTEND;TZID=UTC:20240526T180000
DTSTAMP:20260420T190838
CREATED:20240401T063727Z
LAST-MODIFIED:20240401T063727Z
UID:5046-1716717600-1716746400@www.likoer-genuss.at
SUMMARY:Spargelfest - Deutsch Wagram
DESCRIPTION:Nach einem Jahr Pause\, sind wir heuer wieder am Spargelfest vertreten – und es gibt wieder unseren beliebten Spargellikör -:))
URL:https://www.likoer-genuss.at/event/spargelfest-deutsch-wagram-8
LOCATION:2232 Deutsch Wagram\, Bockfließerstrasse\, Österreich
CATEGORIES:Märkte & Kirtage
END:VEVENT
END:VCALENDAR