﻿BEGIN:VCALENDAR
VERSION:2.0
PRODID:-//Likör-Genusswerkstatt - ECPv6.11.2//NONSGML v1.0//EN
CALSCALE:GREGORIAN
METHOD:PUBLISH
X-WR-CALNAME:Likör-Genusswerkstatt
X-ORIGINAL-URL:https://www.likoer-genuss.at
X-WR-CALDESC:Veranstaltungen für Likör-Genusswerkstatt
REFRESH-INTERVAL;VALUE=DURATION:PT1H
X-Robots-Tag:noindex
X-PUBLISHED-TTL:PT1H
BEGIN:VTIMEZONE
TZID:UTC
BEGIN:STANDARD
TZOFFSETFROM:+0000
TZOFFSETTO:+0000
TZNAME:UTC
DTSTART:20240101T000000
END:STANDARD
END:VTIMEZONE
BEGIN:VEVENT
DTSTART;TZID=UTC:20240518T080000
DTEND;TZID=UTC:20240518T130000
DTSTAMP:20260420T190842
CREATED:20240220T103459Z
LAST-MODIFIED:20240220T103459Z
UID:5023-1716019200-1716037200@www.likoer-genuss.at
SUMMARY:Jahrmarkt Etsdorf am Kamp
DESCRIPTION:Nachdem es im Vorjahr nicht geklappt hat\, da ich leider das Wechselkennzeichen am Auto vergessen hatte und deshalb von der Polizei aufgehalten wurde\, versuche ich es heuer nochmals -:)) – hoffentlich mit Kennzeichen
URL:https://www.likoer-genuss.at/event/jahrmarkt-etsdorf-am-kamp-2
LOCATION:3492 Etsdorf am Kamp
CATEGORIES:Märkte & Kirtage
END:VEVENT
END:VCALENDAR