﻿BEGIN:VCALENDAR
VERSION:2.0
PRODID:-//Likör-Genusswerkstatt - ECPv6.11.2//NONSGML v1.0//EN
CALSCALE:GREGORIAN
METHOD:PUBLISH
X-WR-CALNAME:Likör-Genusswerkstatt
X-ORIGINAL-URL:https://www.likoer-genuss.at
X-WR-CALDESC:Veranstaltungen für Likör-Genusswerkstatt
REFRESH-INTERVAL;VALUE=DURATION:PT1H
X-Robots-Tag:noindex
X-PUBLISHED-TTL:PT1H
BEGIN:VTIMEZONE
TZID:UTC
BEGIN:STANDARD
TZOFFSETFROM:+0000
TZOFFSETTO:+0000
TZNAME:UTC
DTSTART:20240101T000000
END:STANDARD
END:VTIMEZONE
BEGIN:VEVENT
DTSTART;TZID=UTC:20240325T080000
DTEND;TZID=UTC:20240325T130000
DTSTAMP:20260420T215936
CREATED:20240116T111218Z
LAST-MODIFIED:20240116T111218Z
UID:4893-1711353600-1711371600@www.likoer-genuss.at
SUMMARY:Wochenmarkt Mattersburg
DESCRIPTION:In den Osterferien stehen wir mit unseren österlichen Likören wieder in Mattersburg.
URL:https://www.likoer-genuss.at/event/wochenmarkt-mattersburg-3
LOCATION:7210 Mattersburg\, Florianihof\, Wiener Str. 1\, Österreich
CATEGORIES:Märkte & Kirtage
END:VEVENT
END:VCALENDAR