﻿BEGIN:VCALENDAR
VERSION:2.0
PRODID:-//Likör-Genusswerkstatt - ECPv6.11.2//NONSGML v1.0//EN
CALSCALE:GREGORIAN
METHOD:PUBLISH
X-WR-CALNAME:Likör-Genusswerkstatt
X-ORIGINAL-URL:https://www.likoer-genuss.at
X-WR-CALDESC:Veranstaltungen für Likör-Genusswerkstatt
REFRESH-INTERVAL;VALUE=DURATION:PT1H
X-Robots-Tag:noindex
X-PUBLISHED-TTL:PT1H
BEGIN:VTIMEZONE
TZID:UTC
BEGIN:STANDARD
TZOFFSETFROM:+0000
TZOFFSETTO:+0000
TZNAME:UTC
DTSTART:20240101T000000
END:STANDARD
END:VTIMEZONE
BEGIN:VEVENT
DTSTART;TZID=UTC:20240322T090000
DTEND;TZID=UTC:20240323T180000
DTSTAMP:20260420T215939
CREATED:20240116T110803Z
LAST-MODIFIED:20240116T110803Z
UID:4888-1711098000-1711216800@www.likoer-genuss.at
SUMMARY:Ostermarkt Reichenau an der Rax
DESCRIPTION:Traditioneller Auftakt der Marktsaison macht wie immer der Ostermarkt im Schloß Reichenau an der Rax. Wir freuen uns\, Euch österliche Genüsse anbieten zu können -:)
URL:https://www.likoer-genuss.at/event/ostermarkt-reichenau-an-der-rax
LOCATION:2651 Reichenau an der Rax\, Schloss Reichenau\, Schloss Reichenau an der Rax\, 2651 Reichenau an der Rax\, Niederösterreich\, 2651\, Österreich
CATEGORIES:Märkte & Kirtage
END:VEVENT
END:VCALENDAR