﻿BEGIN:VCALENDAR
VERSION:2.0
PRODID:-//Likör-Genusswerkstatt - ECPv6.11.2//NONSGML v1.0//EN
CALSCALE:GREGORIAN
METHOD:PUBLISH
X-WR-CALNAME:Likör-Genusswerkstatt
X-ORIGINAL-URL:https://www.likoer-genuss.at
X-WR-CALDESC:Veranstaltungen für Likör-Genusswerkstatt
REFRESH-INTERVAL;VALUE=DURATION:PT1H
X-Robots-Tag:noindex
X-PUBLISHED-TTL:PT1H
BEGIN:VTIMEZONE
TZID:UTC
BEGIN:STANDARD
TZOFFSETFROM:+0000
TZOFFSETTO:+0000
TZNAME:UTC
DTSTART:20230101T000000
END:STANDARD
END:VTIMEZONE
BEGIN:VEVENT
DTSTART;VALUE=DATE:20231026
DTEND;VALUE=DATE:20231027
DTSTAMP:20260421T044547
CREATED:20230222T131203Z
LAST-MODIFIED:20230222T131203Z
UID:4370-1698278400-1698364799@www.likoer-genuss.at
SUMMARY:Nationalkirtag in Wilhelmsburg
DESCRIPTION:Traditionell am Nationalfeiertag findet dieser Kirtag in Wilhelmsburg statt. Es empfiehlt sich auch das Geschirr-Museum zu besuchen.
URL:https://www.likoer-genuss.at/event/nationalkirtag-in-wilhelmsburg
LOCATION:3150 Wilhelmsburg
CATEGORIES:Märkte & Kirtage
END:VEVENT
END:VCALENDAR