﻿BEGIN:VCALENDAR
VERSION:2.0
PRODID:-//Likör-Genusswerkstatt - ECPv6.11.2//NONSGML v1.0//EN
CALSCALE:GREGORIAN
METHOD:PUBLISH
X-WR-CALNAME:Likör-Genusswerkstatt
X-ORIGINAL-URL:https://www.likoer-genuss.at
X-WR-CALDESC:Veranstaltungen für Likör-Genusswerkstatt
REFRESH-INTERVAL;VALUE=DURATION:PT1H
X-Robots-Tag:noindex
X-PUBLISHED-TTL:PT1H
BEGIN:VTIMEZONE
TZID:UTC
BEGIN:STANDARD
TZOFFSETFROM:+0000
TZOFFSETTO:+0000
TZNAME:UTC
DTSTART:20230101T000000
END:STANDARD
END:VTIMEZONE
BEGIN:VEVENT
DTSTART;VALUE=DATE:20231015
DTEND;VALUE=DATE:20231016
DTSTAMP:20260421T045219
CREATED:20230222T130151Z
LAST-MODIFIED:20230222T130151Z
UID:4359-1697328000-1697414399@www.likoer-genuss.at
SUMMARY:Kirtag in St. Leonhard am Forst
DESCRIPTION:Im Anschluss empfiehlt sich ein Besuch im Stift Melk.
URL:https://www.likoer-genuss.at/event/kirtag-in-st-leonhard-am-forst
LOCATION:3243 St. Leonhard am Forst
CATEGORIES:Märkte & Kirtage
END:VEVENT
END:VCALENDAR