﻿BEGIN:VCALENDAR
VERSION:2.0
PRODID:-//Likör-Genusswerkstatt - ECPv6.11.2//NONSGML v1.0//EN
CALSCALE:GREGORIAN
METHOD:PUBLISH
X-WR-CALNAME:Likör-Genusswerkstatt
X-ORIGINAL-URL:https://www.likoer-genuss.at
X-WR-CALDESC:Veranstaltungen für Likör-Genusswerkstatt
REFRESH-INTERVAL;VALUE=DURATION:PT1H
X-Robots-Tag:noindex
X-PUBLISHED-TTL:PT1H
BEGIN:VTIMEZONE
TZID:UTC
BEGIN:STANDARD
TZOFFSETFROM:+0000
TZOFFSETTO:+0000
TZNAME:UTC
DTSTART:20230101T000000
END:STANDARD
END:VTIMEZONE
BEGIN:VEVENT
DTSTART;VALUE=DATE:20230820
DTEND;VALUE=DATE:20230821
DTSTAMP:20260421T073710
CREATED:20230222T124427Z
LAST-MODIFIED:20230222T124427Z
UID:4341-1692489600-1692575999@www.likoer-genuss.at
SUMMARY:Kirtag in Pottenstein
DESCRIPTION:Pottenstein liegt im wunderschönen Triestingtal
URL:https://www.likoer-genuss.at/event/kirtag-in-pottenstein-2
LOCATION:2563 Pottenstein
CATEGORIES:Märkte & Kirtage
END:VEVENT
END:VCALENDAR