﻿BEGIN:VCALENDAR
VERSION:2.0
PRODID:-//Likör-Genusswerkstatt - ECPv6.11.2//NONSGML v1.0//EN
CALSCALE:GREGORIAN
METHOD:PUBLISH
X-ORIGINAL-URL:https://www.likoer-genuss.at
X-WR-CALDESC:Veranstaltungen für Likör-Genusswerkstatt
REFRESH-INTERVAL;VALUE=DURATION:PT1H
X-Robots-Tag:noindex
X-PUBLISHED-TTL:PT1H
BEGIN:VTIMEZONE
TZID:UTC
BEGIN:STANDARD
TZOFFSETFROM:+0000
TZOFFSETTO:+0000
TZNAME:UTC
DTSTART:20230101T000000
END:STANDARD
END:VTIMEZONE
BEGIN:VEVENT
DTSTART;VALUE=DATE:20230815
DTEND;VALUE=DATE:20230816
DTSTAMP:20260421T091331
CREATED:20230222T123721Z
LAST-MODIFIED:20230731T074003Z
UID:4338-1692057600-1692143999@www.likoer-genuss.at
SUMMARY:Wallfahrtskirtag in Grainbrunn
DESCRIPTION:5. Heimspiel an Mariä Himmelfahrt
URL:https://www.likoer-genuss.at/event/wallfahrtskirtag-in-neunkirchen-am-ostrong
LOCATION:3524 Grainbrunn
CATEGORIES:Märkte & Kirtage
END:VEVENT
END:VCALENDAR