﻿BEGIN:VCALENDAR
VERSION:2.0
PRODID:-//Likör-Genusswerkstatt - ECPv6.11.2//NONSGML v1.0//EN
CALSCALE:GREGORIAN
METHOD:PUBLISH
X-ORIGINAL-URL:https://www.likoer-genuss.at
X-WR-CALDESC:Veranstaltungen für Likör-Genusswerkstatt
REFRESH-INTERVAL;VALUE=DURATION:PT1H
X-Robots-Tag:noindex
X-PUBLISHED-TTL:PT1H
BEGIN:VTIMEZONE
TZID:UTC
BEGIN:STANDARD
TZOFFSETFROM:+0000
TZOFFSETTO:+0000
TZNAME:UTC
DTSTART:20230101T000000
END:STANDARD
END:VTIMEZONE
BEGIN:VEVENT
DTSTART;TZID=UTC:20230811T100000
DTEND;TZID=UTC:20230813T233000
DTSTAMP:20260421T091346
CREATED:20230321T134511Z
LAST-MODIFIED:20230321T134511Z
UID:4397-1691748000-1691969400@www.likoer-genuss.at
SUMMARY:Zwiebelfest Laa a. d. Thaya
DESCRIPTION:Wie jedes Jahr sind wir auch heuer wieder traditionell am Zwiebelfest. Kommt auch hin – es gibt täglich Freiluftkonzerte\, super Essen und tolles Ambiente!
URL:https://www.likoer-genuss.at/event/zwiebelfest-laa-a-d-thaya-4
LOCATION:2136 Laa/Thaya
CATEGORIES:Andere Events
END:VEVENT
END:VCALENDAR