﻿BEGIN:VCALENDAR
VERSION:2.0
PRODID:-//Likör-Genusswerkstatt - ECPv6.11.2//NONSGML v1.0//EN
CALSCALE:GREGORIAN
METHOD:PUBLISH
X-WR-CALNAME:Likör-Genusswerkstatt
X-ORIGINAL-URL:https://www.likoer-genuss.at
X-WR-CALDESC:Veranstaltungen für Likör-Genusswerkstatt
REFRESH-INTERVAL;VALUE=DURATION:PT1H
X-Robots-Tag:noindex
X-PUBLISHED-TTL:PT1H
BEGIN:VTIMEZONE
TZID:UTC
BEGIN:STANDARD
TZOFFSETFROM:+0000
TZOFFSETTO:+0000
TZNAME:UTC
DTSTART:20230101T000000
END:STANDARD
END:VTIMEZONE
BEGIN:VEVENT
DTSTART;VALUE=DATE:20230625
DTEND;VALUE=DATE:20230626
DTSTAMP:20260421T105419
CREATED:20230222T122050Z
LAST-MODIFIED:20230622T140917Z
UID:4321-1687651200-1687737599@www.likoer-genuss.at
SUMMARY:Kirtag in Trumau
DESCRIPTION:In der Thermenregion Baden Umgebung empfhielt sich im Anschluß ein Besuch des Schlossparkes in Bad Vöslau oder auch ein Waldspaziergang in der warmen Thermen-Weinregion.
URL:https://www.likoer-genuss.at/event/kirtag-in-gainfarn-2
LOCATION:2521 Trumau
CATEGORIES:Märkte & Kirtage
END:VEVENT
END:VCALENDAR