﻿BEGIN:VCALENDAR
VERSION:2.0
PRODID:-//Likör-Genusswerkstatt - ECPv6.11.2//NONSGML v1.0//EN
CALSCALE:GREGORIAN
METHOD:PUBLISH
X-WR-CALNAME:Likör-Genusswerkstatt
X-ORIGINAL-URL:https://www.likoer-genuss.at
X-WR-CALDESC:Veranstaltungen für Likör-Genusswerkstatt
REFRESH-INTERVAL;VALUE=DURATION:PT1H
X-Robots-Tag:noindex
X-PUBLISHED-TTL:PT1H
BEGIN:VTIMEZONE
TZID:UTC
BEGIN:STANDARD
TZOFFSETFROM:+0000
TZOFFSETTO:+0000
TZNAME:UTC
DTSTART:20230101T000000
END:STANDARD
END:VTIMEZONE
BEGIN:VEVENT
DTSTART;VALUE=DATE:20230624
DTEND;VALUE=DATE:20230625
DTSTAMP:20260423T101056
CREATED:20230222T121726Z
LAST-MODIFIED:20230222T121726Z
UID:4319-1687564800-1687651199@www.likoer-genuss.at
SUMMARY:Johannikirtag in St. Margarethen im Burgenland
DESCRIPTION:Traditionell am 24. Juni am Tag des Johannes der Täufer findet der Johannikirtag in der Weinregion St. Margarethen im Burgenland statt. Im Anschluß daran empfiehlt sich ein Spaziergang im Nationalpark Neusiedler See oder wie wäre es mit einem Heurigenbesuch?
URL:https://www.likoer-genuss.at/event/johannikirtag-in-st-margarethen-im-burgenland
LOCATION:7062 St. Margarethen
CATEGORIES:Märkte & Kirtage
END:VEVENT
END:VCALENDAR