﻿BEGIN:VCALENDAR
VERSION:2.0
PRODID:-//Likör-Genusswerkstatt - ECPv6.11.2//NONSGML v1.0//EN
CALSCALE:GREGORIAN
METHOD:PUBLISH
X-ORIGINAL-URL:https://www.likoer-genuss.at
X-WR-CALDESC:Veranstaltungen für Likör-Genusswerkstatt
REFRESH-INTERVAL;VALUE=DURATION:PT1H
X-Robots-Tag:noindex
X-PUBLISHED-TTL:PT1H
BEGIN:VTIMEZONE
TZID:UTC
BEGIN:STANDARD
TZOFFSETFROM:+0000
TZOFFSETTO:+0000
TZNAME:UTC
DTSTART:20230101T000000
END:STANDARD
END:VTIMEZONE
BEGIN:VEVENT
DTSTART;VALUE=DATE:20230604
DTEND;VALUE=DATE:20230605
DTSTAMP:20260421T105455
CREATED:20230221T142129Z
LAST-MODIFIED:20230221T142129Z
UID:4316-1685836800-1685923199@www.likoer-genuss.at
SUMMARY:Kirtag in Altmelon Zum Eisernen Bild
DESCRIPTION:Bevor man nach Altmelon hineinfährt befindet sich am Strassenrand eine kleine Kapelle (Zum Eisernen Bild)\, bei welcher der Kirtag rundherum stattfindet.
URL:https://www.likoer-genuss.at/event/kirtag-in-altmelon-zum-eisernen-bild
LOCATION:3925 Altmelon
CATEGORIES:Märkte & Kirtage
END:VEVENT
END:VCALENDAR