﻿BEGIN:VCALENDAR
VERSION:2.0
PRODID:-//Likör-Genusswerkstatt - ECPv6.11.2//NONSGML v1.0//EN
CALSCALE:GREGORIAN
METHOD:PUBLISH
X-WR-CALNAME:Likör-Genusswerkstatt
X-ORIGINAL-URL:https://www.likoer-genuss.at
X-WR-CALDESC:Veranstaltungen für Likör-Genusswerkstatt
REFRESH-INTERVAL;VALUE=DURATION:PT1H
X-Robots-Tag:noindex
X-PUBLISHED-TTL:PT1H
BEGIN:VTIMEZONE
TZID:UTC
BEGIN:STANDARD
TZOFFSETFROM:+0000
TZOFFSETTO:+0000
TZNAME:UTC
DTSTART:20230101T000000
END:STANDARD
END:VTIMEZONE
BEGIN:VEVENT
DTSTART;VALUE=DATE:20230507
DTEND;VALUE=DATE:20230508
DTSTAMP:20260421T122647
CREATED:20230220T102221Z
LAST-MODIFIED:20230220T102221Z
UID:4291-1683417600-1683503999@www.likoer-genuss.at
SUMMARY:Kirtag in Laimbach am Ostrong
DESCRIPTION:Heimspiel – kommt in unsere Gemeinde – in die Region\, in welcher der Likör produziert wird
URL:https://www.likoer-genuss.at/event/kirtag-in-laimbach-am-ostrong
LOCATION:3663 Laimbach am Ostrong
CATEGORIES:Märkte & Kirtage
END:VEVENT
END:VCALENDAR