﻿BEGIN:VCALENDAR
VERSION:2.0
PRODID:-//Likör-Genusswerkstatt - ECPv6.11.2//NONSGML v1.0//EN
CALSCALE:GREGORIAN
METHOD:PUBLISH
X-ORIGINAL-URL:https://www.likoer-genuss.at
X-WR-CALDESC:Veranstaltungen für Likör-Genusswerkstatt
REFRESH-INTERVAL;VALUE=DURATION:PT1H
X-Robots-Tag:noindex
X-PUBLISHED-TTL:PT1H
BEGIN:VTIMEZONE
TZID:UTC
BEGIN:STANDARD
TZOFFSETFROM:+0000
TZOFFSETTO:+0000
TZNAME:UTC
DTSTART:20230101T000000
END:STANDARD
END:VTIMEZONE
BEGIN:VEVENT
DTSTART;VALUE=DATE:20230430
DTEND;VALUE=DATE:20230501
DTSTAMP:20260421T140637
CREATED:20230220T101453Z
LAST-MODIFIED:20230220T101453Z
UID:4285-1682812800-1682899199@www.likoer-genuss.at
SUMMARY:Kirtag in Oberndorf a. d. Melk
DESCRIPTION:Kirtag im Mostviertel. \nWandert entlang des Melkflusses unter Bäumen und Sträuchern und genießt dieses tolle Naherholungsgebiet.
URL:https://www.likoer-genuss.at/event/kirtag-in-oberndorf-a-d-melk
LOCATION:3241 Oberndorf a. d. Melk
CATEGORIES:Märkte & Kirtage
END:VEVENT
END:VCALENDAR