﻿BEGIN:VCALENDAR
VERSION:2.0
PRODID:-//Likör-Genusswerkstatt - ECPv6.11.2//NONSGML v1.0//EN
CALSCALE:GREGORIAN
METHOD:PUBLISH
X-WR-CALNAME:Likör-Genusswerkstatt
X-ORIGINAL-URL:https://www.likoer-genuss.at
X-WR-CALDESC:Veranstaltungen für Likör-Genusswerkstatt
REFRESH-INTERVAL;VALUE=DURATION:PT1H
X-Robots-Tag:noindex
X-PUBLISHED-TTL:PT1H
BEGIN:VTIMEZONE
TZID:UTC
BEGIN:STANDARD
TZOFFSETFROM:+0000
TZOFFSETTO:+0000
TZNAME:UTC
DTSTART:20230101T000000
END:STANDARD
END:VTIMEZONE
BEGIN:VEVENT
DTSTART;VALUE=DATE:20230416
DTEND;VALUE=DATE:20230417
DTSTAMP:20260421T140405
CREATED:20230222T132457Z
LAST-MODIFIED:20230222T132457Z
UID:4375-1681603200-1681689599@www.likoer-genuss.at
SUMMARY:Kirtag in Pöchlarn
DESCRIPTION:Unser 1. Kirtag startet heuer in Pöchlarn an der Donau
URL:https://www.likoer-genuss.at/event/kirtag-in-poechlarn
LOCATION:3380 Pöchlarn
CATEGORIES:Märkte & Kirtage
END:VEVENT
END:VCALENDAR